BEGIN:VCALENDAR
VERSION:2.0
PRODID:-//ppi.communityadvocates.net//NONSGML kigkonsult.se iCalcreator 2.3
 0.10//
CALSCALE:GREGORIAN
METHOD:PUBLISH
UID:ec428b96-79a6-4cb2-859d-51f037bcc2fd
X-WR-CALDESC:All are welcome to attend the monthly Milwaukee Reentry Counci
 l meeting\, which is devoted to removing barriers for those leaving incarc
 eration and returning to Milwaukee. Contact Conor Williams for details.
X-WR-RELCALID:53f8e3b399b039ab918fab1541563e46
X-WR-TIMEZONE:America/Chicago
BEGIN:VTIMEZONE
TZID:America/Chicago
BEGIN:STANDARD
TZNAME:CST
DTSTART:20191103T020000
TZOFFSETFROM:-0500
TZOFFSETTO:-0600
RDATE:20201101T020000
END:STANDARD
BEGIN:DAYLIGHT
TZNAME:CDT
DTSTART:20190310T020000
TZOFFSETFROM:-0600
TZOFFSETTO:-0500
RDATE:20200308T020000
RDATE:20210314T020000
END:DAYLIGHT
END:VTIMEZONE
BEGIN:VEVENT
UID:b987d2e2-7d03-424d-9140-f3a071f681e4
DTSTAMP:20260420T232049Z
DESCRIPTION:All are welcome to attend the monthly Milwaukee Reentry Council
  meeting\, which is devoted to removing barriers for those leaving incarce
 ration and returning to Milwaukee. Contact Conor Williams for details.
DTSTART;TZID=America/Chicago:20200122T140000
DTEND;TZID=America/Chicago:20200122T153000
LOCATION:To Be Announced
SUMMARY:Milwaukee Reentry Council Meeting
END:VEVENT
END:VCALENDAR
