BEGIN:VCALENDAR
VERSION:2.0
PRODID:-//ppi.communityadvocates.net//NONSGML kigkonsult.se iCalcreator 2.3
 0.10//
CALSCALE:GREGORIAN
METHOD:PUBLISH
UID:9f4fb63b-a17a-4b77-9b57-909ca2823a6a
X-WR-CALDESC:Our offices will be closed on Monday\, January 20\, to celebra
 te Martin Luther King Jr. Day. We'll be back in touch on January 21.
X-WR-RELCALID:ae0ed6c5930621c4254a876b697e5750
X-WR-TIMEZONE:America/Chicago
BEGIN:VTIMEZONE
TZID:America/Chicago
BEGIN:STANDARD
TZNAME:CST
DTSTART:20191103T020000
TZOFFSETFROM:-0500
TZOFFSETTO:-0600
RDATE:20201101T020000
END:STANDARD
BEGIN:DAYLIGHT
TZNAME:CDT
DTSTART:20190310T020000
TZOFFSETFROM:-0600
TZOFFSETTO:-0500
RDATE:20200308T020000
RDATE:20210314T020000
END:DAYLIGHT
END:VTIMEZONE
BEGIN:VEVENT
UID:66e1d192-135e-40fd-a162-fb7ca26d5d7d
DTSTAMP:20260420T232350Z
DESCRIPTION:Our offices will be closed on Monday\, January 20\, to celebrat
 e Martin Luther King Jr. Day. We'll be back in touch on January 21.
DTSTART;TZID=America/Chicago:20200120T000000
DTEND;TZID=America/Chicago:20200120T235900
LOCATION:
SUMMARY:Martin Luther King Jr. Day
END:VEVENT
END:VCALENDAR
