BEGIN:VCALENDAR
VERSION:2.0
PRODID:-//ppi.communityadvocates.net//NONSGML kigkonsult.se iCalcreator 2.3
 0.10//
CALSCALE:GREGORIAN
METHOD:PUBLISH
UID:e136ca09-9fea-47fe-bcbc-e0a5ed1188c2
X-WR-CALDESC:Members of the MCSAP coalition will meet from noon to 2:30 p.m
 . Location to be determined. Interested in attending? Contact us at the li
 nk below.
X-WR-RELCALID:854b9f437e6bc888d38975ac847fdacf
X-WR-TIMEZONE:America/Chicago
BEGIN:VTIMEZONE
TZID:America/Chicago
BEGIN:STANDARD
TZNAME:CST
DTSTART:20191103T020000
TZOFFSETFROM:-0500
TZOFFSETTO:-0600
RDATE:20201101T020000
END:STANDARD
BEGIN:DAYLIGHT
TZNAME:CDT
DTSTART:20190310T020000
TZOFFSETFROM:-0600
TZOFFSETTO:-0500
RDATE:20200308T020000
RDATE:20210314T020000
END:DAYLIGHT
END:VTIMEZONE
BEGIN:VEVENT
UID:322a621f-7be5-4555-8a3f-b58288ca2279
DTSTAMP:20260420T232350Z
DESCRIPTION:Members of the MCSAP coalition will meet from noon to 2:30 p.m.
  Location to be determined. Interested in attending? Contact us at the lin
 k below.
DTSTART;TZID=America/Chicago:20200116T120000
DTEND;TZID=America/Chicago:20200116T143000
LOCATION:Location To Be Announced
SUMMARY:MCSAP Coalition Meeting
END:VEVENT
END:VCALENDAR
