BEGIN:VCALENDAR
VERSION:2.0
PRODID:-//ppi.communityadvocates.net//NONSGML kigkonsult.se iCalcreator 2.3
 0.10//
CALSCALE:GREGORIAN
METHOD:PUBLISH
UID:127d7d19-0e9c-4562-a68c-b71e9392b928
X-WR-CALDESC:Citizen Action of Wisconsin is presenting a lively and serious
  discussion about clean energy and energy efficiency and how it will impac
 t Milwaukee's building and homes. The discussion\, featuring PPI's Senior 
 Policy Advocate Julie Kerksick\, is part of Citizen Action's series of for
 ums on Milwaukee's Green New Deal. In addition to Julie\, the panelists wi
 ll include Erick Shambarger\, Environmental Sustainability Director\, Envi
 ronmental Collaboration Office (ECO) City of Milwaukee\, and Kathleen Elli
 s\, Energy Manager\, Milwaukee Area Technical College.\n\nDate: Thursday 1
 /16/20\n\nTime: 6-8 pm\n\nLocation: Wauwatosa Library 7635 W. North Ave.\,
  Firefly Room\n\nBus Routes: 21\, 67\, 76\n
X-WR-RELCALID:19937ff846ac76a904da889417bd0ccf
X-WR-TIMEZONE:America/Chicago
BEGIN:VTIMEZONE
TZID:America/Chicago
BEGIN:STANDARD
TZNAME:CST
DTSTART:20191103T020000
TZOFFSETFROM:-0500
TZOFFSETTO:-0600
RDATE:20201101T020000
END:STANDARD
BEGIN:DAYLIGHT
TZNAME:CDT
DTSTART:20190310T020000
TZOFFSETFROM:-0600
TZOFFSETTO:-0500
RDATE:20200308T020000
RDATE:20210314T020000
END:DAYLIGHT
END:VTIMEZONE
BEGIN:VEVENT
UID:82958598-54e3-4092-b012-260b47fa0110
DTSTAMP:20260420T232027Z
DESCRIPTION:Citizen Action of Wisconsin is presenting a lively and serious 
 discussion about clean energy and energy efficiency and how it will impact
  Milwaukee's building and homes. The discussion\, featuring PPI's Senior P
 olicy Advocate Julie Kerksick\, is part of Citizen Action's series of foru
 ms on Milwaukee's Green New Deal. In addition to Julie\, the panelists wil
 l include Erick Shambarger\, Environmental Sustainability Director\, Envir
 onmental Collaboration Office (ECO) City of Milwaukee\, and Kathleen Ellis
 \, Energy Manager\, Milwaukee Area Technical College.\n\nDate: Thursday 1/
 16/20\n\nTime: 6-8 pm\n\nLocation: Wauwatosa Library 7635 W. North Ave.\, 
 Firefly Room\n\nBus Routes: 21\, 67\, 76\n
DTSTART;TZID=America/Chicago:20200116T180000
DTEND;TZID=America/Chicago:20200116T200000
LOCATION:Wauwatosa Public Library\, 7635 W. North Ave.\, Wauwatosa
SUMMARY:Clean Energy and Efficiency for Milwaukee’s Buildings and Houses
END:VEVENT
END:VCALENDAR
