BEGIN:VCALENDAR
VERSION:2.0
PRODID:-//ppi.communityadvocates.net//NONSGML kigkonsult.se iCalcreator 2.3
 0.10//
CALSCALE:GREGORIAN
METHOD:PUBLISH
UID:391dd64a-77a2-47d3-8a00-6d7838ba62a3
X-WR-CALDESC:The Public Policy Institute's offices will be closed on Decemb
 er 24 & 25 to observe the holidays. We'll be in touch on December 26. Chee
 rs!
X-WR-RELCALID:7df6165fe41abc8dfdf82bd521ecf6fe
X-WR-TIMEZONE:America/Chicago
BEGIN:VTIMEZONE
TZID:America/Chicago
BEGIN:STANDARD
TZNAME:CST
DTSTART:20191103T020000
TZOFFSETFROM:-0500
TZOFFSETTO:-0600
RDATE:20201101T020000
END:STANDARD
BEGIN:DAYLIGHT
TZNAME:CDT
DTSTART:20190310T020000
TZOFFSETFROM:-0600
TZOFFSETTO:-0500
RDATE:20200308T020000
RDATE:20210314T020000
END:DAYLIGHT
END:VTIMEZONE
BEGIN:VEVENT
UID:d6508cd5-1128-46f4-ae9e-858a462ca451
DTSTAMP:20260421T005351Z
DESCRIPTION:The Public Policy Institute's offices will be closed on Decembe
 r 24 & 25 to observe the holidays. We'll be in touch on December 26. Cheer
 s!
DTSTART;TZID=America/Chicago:20191225T000000
DTEND;TZID=America/Chicago:20191225T235900
LOCATION:
SUMMARY:Christmas Holiday
END:VEVENT
END:VCALENDAR
