BEGIN:VCALENDAR
VERSION:2.0
PRODID:-//ppi.communityadvocates.net//NONSGML kigkonsult.se iCalcreator 2.3
 0.10//
CALSCALE:GREGORIAN
METHOD:PUBLISH
UID:90647397-06a6-4dff-872d-b666b829c852
X-WR-CALDESC:The Coalition on Lead Emergency invites you to this free resou
 rce fair\, which will provide youth and parents with information on progra
 ms\, services\, and employment opportunities for youth and young adults ag
 es 16-24 in Milwaukee. It's brought to you by the Coalition on Lead Emerge
 ncy (COLE)\, Community Advocates Public Policy Institute\, COA Youth & Fam
 ily Centers\, and MICAH. \n\nInterested in being a vendor? Download the ap
 plication today!
X-WR-RELCALID:06b924d37aa52cb25f89b32f32fd822d
X-WR-TIMEZONE:America/Chicago
BEGIN:VTIMEZONE
TZID:America/Chicago
BEGIN:STANDARD
TZNAME:CST
DTSTART:20191103T020000
TZOFFSETFROM:-0500
TZOFFSETTO:-0600
RDATE:20201101T020000
END:STANDARD
BEGIN:DAYLIGHT
TZNAME:CDT
DTSTART:20190310T020000
TZOFFSETFROM:-0600
TZOFFSETTO:-0500
RDATE:20200308T020000
RDATE:20210314T020000
END:DAYLIGHT
END:VTIMEZONE
BEGIN:VEVENT
UID:586f5841-53ac-430b-bbbd-49abc66228b2
DTSTAMP:20260421T005514Z
DESCRIPTION:The Coalition on Lead Emergency invites you to this free resour
 ce fair\, which will provide youth and parents with information on program
 s\, services\, and employment opportunities for youth and young adults age
 s 16-24 in Milwaukee. It's brought to you by the Coalition on Lead Emergen
 cy (COLE)\, Community Advocates Public Policy Institute\, COA Youth & Fami
 ly Centers\, and MICAH. \n\nInterested in being a vendor? Download the app
 lication today!
DTSTART;TZID=America/Chicago:20191207T100000
DTEND;TZID=America/Chicago:20191207T130000
LOCATION:COA Goldin Center\, 2320 W Burleigh St.\, Milwaukee\, WI 53206
SUMMARY:Youth & Young Adult Resource Fair
END:VEVENT
END:VCALENDAR
