BEGIN:VCALENDAR
VERSION:2.0
PRODID:-//ppi.communityadvocates.net//NONSGML kigkonsult.se iCalcreator 2.3
 0.10//
CALSCALE:GREGORIAN
METHOD:PUBLISH
UID:6a437dc6-4a22-4054-9c0e-ae9135db3e40
X-WR-CALDESC:
X-WR-RELCALID:9c4680b1cd06b2e09a1cd8be571c7951
X-WR-TIMEZONE:America/Chicago
BEGIN:VTIMEZONE
TZID:America/Chicago
BEGIN:STANDARD
TZNAME:CST
DTSTART:20191103T020000
TZOFFSETFROM:-0500
TZOFFSETTO:-0600
RDATE:20201101T020000
END:STANDARD
BEGIN:DAYLIGHT
TZNAME:CDT
DTSTART:20190310T020000
TZOFFSETFROM:-0600
TZOFFSETTO:-0500
RDATE:20200308T020000
RDATE:20210314T020000
END:DAYLIGHT
END:VTIMEZONE
BEGIN:VEVENT
UID:f8442c64-3900-4001-b8e4-14a76fe2cd1d
DTSTAMP:20260421T004940Z
DESCRIPTION:
DTSTART;TZID=America/Chicago:20191203T000000
DTEND;TZID=America/Chicago:20191203T235900
LOCATION:
SUMMARY:Giving Tuesday 2019
END:VEVENT
END:VCALENDAR
