BEGIN:VCALENDAR
VERSION:2.0
PRODID:-//ppi.communityadvocates.net//NONSGML kigkonsult.se iCalcreator 2.3
 0.10//
CALSCALE:GREGORIAN
METHOD:PUBLISH
UID:e01b436c-b0a9-458a-bbfa-c2ec5939481d
X-WR-CALDESC:Happy Thanksgiving! The Public Policy Institute's offices will
  be closed over the extended holiday weekend but we will be back in touch 
 on Monday\, December 2. Cheers!
X-WR-RELCALID:e592400d1bafd147c6beb36b2a6d6065
X-WR-TIMEZONE:America/Chicago
BEGIN:VTIMEZONE
TZID:America/Chicago
BEGIN:STANDARD
TZNAME:CST
DTSTART:20191103T020000
TZOFFSETFROM:-0500
TZOFFSETTO:-0600
RDATE:20201101T020000
END:STANDARD
BEGIN:DAYLIGHT
TZNAME:CDT
DTSTART:20190310T020000
TZOFFSETFROM:-0600
TZOFFSETTO:-0500
RDATE:20200308T020000
RDATE:20210314T020000
END:DAYLIGHT
END:VTIMEZONE
BEGIN:VEVENT
UID:a159633a-97c7-43b0-8438-8ea8c822617e
DTSTAMP:20260421T022845Z
DESCRIPTION:Happy Thanksgiving! The Public Policy Institute's offices will 
 be closed over the extended holiday weekend but we will be back in touch o
 n Monday\, December 2. Cheers!
DTSTART;TZID=America/Chicago:20191129T000000
DTEND;TZID=America/Chicago:20191129T235900
LOCATION:
SUMMARY:Thanksgiving Holiday
END:VEVENT
END:VCALENDAR
