BEGIN:VCALENDAR
VERSION:2.0
PRODID:-//ppi.communityadvocates.net//NONSGML kigkonsult.se iCalcreator 2.3
 0.10//
CALSCALE:GREGORIAN
METHOD:PUBLISH
UID:5a349c5a-fe8a-42eb-bc6b-dbed2c1df5f0
X-WR-CALDESC:Happy Thanksgiving! The Public Policy Institute's offices will
  be closed over the extended holiday weekend but we will be back in touch 
 on Monday\, December 2. Cheers!
X-WR-RELCALID:541652bb4b3d5820373afc037fbe4fe2
X-WR-TIMEZONE:America/Chicago
BEGIN:VTIMEZONE
TZID:America/Chicago
BEGIN:STANDARD
TZNAME:CST
DTSTART:20191103T020000
TZOFFSETFROM:-0500
TZOFFSETTO:-0600
RDATE:20201101T020000
END:STANDARD
BEGIN:DAYLIGHT
TZNAME:CDT
DTSTART:20190310T020000
TZOFFSETFROM:-0600
TZOFFSETTO:-0500
RDATE:20200308T020000
RDATE:20210314T020000
END:DAYLIGHT
END:VTIMEZONE
BEGIN:VEVENT
UID:0e2a2609-b09d-48ac-9bae-617880d89ecb
DTSTAMP:20260421T022701Z
DESCRIPTION:Happy Thanksgiving! The Public Policy Institute's offices will 
 be closed over the extended holiday weekend but we will be back in touch o
 n Monday\, December 2. Cheers!
DTSTART;TZID=America/Chicago:20191128T000000
DTEND;TZID=America/Chicago:20191128T235900
LOCATION:
SUMMARY:Thanksgiving Holiday
END:VEVENT
END:VCALENDAR
