BEGIN:VCALENDAR
VERSION:2.0
PRODID:-//ppi.communityadvocates.net//NONSGML kigkonsult.se iCalcreator 2.3
 0.10//
CALSCALE:GREGORIAN
METHOD:PUBLISH
UID:457bfd3b-11eb-49a6-ac91-3ad2614e69c4
X-WR-CALDESC:This is a tabletop game experience that builds an understandin
 g of the powerful role of experiences on early brain development. If your 
 organization or community is embarking on a conversation about adverse chi
 ldhood experiences\, toxic stress\, or \nother early childhood issues\, Th
 e Brain Architecture Game can be a valuable resource for creating a common
  understanding of and a common language about these topics.\n\n<b>This fre
 e community event requires registration. Please RSVP at the link below.</b
 >\n\nThis training is sponsored by ReCast MKE through the City of Milwauke
 e Office of Violence Prevention in partnership with Community Advocates Pu
 blic Policy Institute. \n
X-WR-RELCALID:6320f4fc3ef9c6e48670bd5223186a0b
X-WR-TIMEZONE:America/Chicago
BEGIN:VTIMEZONE
TZID:America/Chicago
BEGIN:STANDARD
TZNAME:CST
DTSTART:20191103T020000
TZOFFSETFROM:-0500
TZOFFSETTO:-0600
RDATE:20201101T020000
END:STANDARD
BEGIN:DAYLIGHT
TZNAME:CDT
DTSTART:20190310T020000
TZOFFSETFROM:-0600
TZOFFSETTO:-0500
RDATE:20200308T020000
RDATE:20210314T020000
END:DAYLIGHT
END:VTIMEZONE
BEGIN:VEVENT
UID:df5ee19e-160b-4e69-a727-68b1cfedaaa5
DTSTAMP:20260421T022846Z
DESCRIPTION:This is a tabletop game experience that builds an understanding
  of the powerful role of experiences on early brain development. If your o
 rganization or community is embarking on a conversation about adverse chil
 dhood experiences\, toxic stress\, or \nother early childhood issues\, The
  Brain Architecture Game can be a valuable resource for creating a common 
 understanding of and a common language about these topics.\n\n<b>This free
  community event requires registration. Please RSVP at the link below.</b>
 \n\nThis training is sponsored by ReCast MKE through the City of Milwaukee
  Office of Violence Prevention in partnership with Community Advocates Pub
 lic Policy Institute. \n
DTSTART;TZID=America/Chicago:20191121T100000
DTEND;TZID=America/Chicago:20191121T120000
LOCATION:Timbers Building\, 700 W Virginia St\, Milwaukee\, WI 53204
SUMMARY:The Brain Architecture Game
END:VEVENT
END:VCALENDAR
