BEGIN:VCALENDAR
VERSION:2.0
PRODID:-//ppi.communityadvocates.net//NONSGML kigkonsult.se iCalcreator 2.3
 0.10//
CALSCALE:GREGORIAN
METHOD:PUBLISH
UID:a5edf03d-4ddb-4307-8163-ab1b3dcb3c02
X-WR-CALDESC:The Adult Mental Health First Aid course is appropriate for an
 yone 18 years and older who wants to learn how to help a person who may be
  experiencing a mental health- related crisis or problem. Topics covered i
 nclude anxiety\, depression\, psychosis\, and addictions. \n\nMental Healt
 h First Aid teaches you how to identify\, understand\, and respond to sign
 s of mental illnesses and substance use disorders. This eight-hour trainin
 g gives you the skills you need to reach out and provide initial support t
 o someone who may be developing a mental health or substance use problem a
 nd help connect them to appropriate care.\n \n<b>This training is offered 
 free of charge thanks to a ReCAST MKE grant from the City of Milwaukee Off
 ice of Violence Prevention. RSVPs are required at the link below.</b>
X-WR-RELCALID:b294c696757f3757853f62f974f286ef
X-WR-TIMEZONE:America/Chicago
BEGIN:VTIMEZONE
TZID:America/Chicago
BEGIN:STANDARD
TZNAME:CST
DTSTART:20191103T020000
TZOFFSETFROM:-0500
TZOFFSETTO:-0600
RDATE:20201101T020000
END:STANDARD
BEGIN:DAYLIGHT
TZNAME:CDT
DTSTART:20190310T020000
TZOFFSETFROM:-0600
TZOFFSETTO:-0500
RDATE:20200308T020000
RDATE:20210314T020000
END:DAYLIGHT
END:VTIMEZONE
BEGIN:VEVENT
UID:97f79045-9055-4aa4-a016-66a33443761a
DTSTAMP:20260421T023137Z
DESCRIPTION:The Adult Mental Health First Aid course is appropriate for any
 one 18 years and older who wants to learn how to help a person who may be 
 experiencing a mental health- related crisis or problem. Topics covered in
 clude anxiety\, depression\, psychosis\, and addictions. \n\nMental Health
  First Aid teaches you how to identify\, understand\, and respond to signs
  of mental illnesses and substance use disorders. This eight-hour training
  gives you the skills you need to reach out and provide initial support to
  someone who may be developing a mental health or substance use problem an
 d help connect them to appropriate care.\n \n<b>This training is offered f
 ree of charge thanks to a ReCAST MKE grant from the City of Milwaukee Offi
 ce of Violence Prevention. RSVPs are required at the link below.</b>
DTSTART;TZID=America/Chicago:20191115T090000
DTEND;TZID=America/Chicago:20191115T160000
LOCATION:United Way of Greater Milwaukee & Waukesha County\, Johnson Contro
 ls Volunteer Engagement Center\,  200 W. Pleasant Street\, Milwaukee
SUMMARY:Adult Mental Health First Aid
END:VEVENT
END:VCALENDAR
