BEGIN:VCALENDAR
VERSION:2.0
PRODID:-//ppi.communityadvocates.net//NONSGML kigkonsult.se iCalcreator 2.3
 0.10//
CALSCALE:GREGORIAN
METHOD:PUBLISH
UID:8c786f13-23d1-4846-89ee-7738226089e2
X-WR-CALDESC:Community Advocates Public Policy Institute and the Milwaukee 
 County Substance Abuse Prevention coalition are pleased to offer this no-c
 ost\, two-day training for education and other professionals to learn how 
 to identify chemically impaired individuals. \n\nDrug Impairment Training 
 for Education Professionals (DITEP) is aimed toward educators\, school nur
 ses\, administrators\, law enforcement\, parents\, nonprofit professionals
 \, and youth-serving organizations. Participants will learn how to assess 
 individuals for substance use and ensure a safe environment for all.\n\n<b
 >There is no cost to attend\, and participants will receive a manual and l
 unch. RSVP at the link below as space is limited. </b>
X-WR-RELCALID:a4c6b87cb558faf906430f7a716d4c46
X-WR-TIMEZONE:America/Chicago
BEGIN:VTIMEZONE
TZID:America/Chicago
BEGIN:STANDARD
TZNAME:CST
DTSTART:20191103T020000
TZOFFSETFROM:-0500
TZOFFSETTO:-0600
RDATE:20201101T020000
END:STANDARD
BEGIN:DAYLIGHT
TZNAME:CDT
DTSTART:20190310T020000
TZOFFSETFROM:-0600
TZOFFSETTO:-0500
RDATE:20200308T020000
RDATE:20210314T020000
END:DAYLIGHT
END:VTIMEZONE
BEGIN:VEVENT
UID:db7eb599-fc19-42dc-9c6d-9354fe3e776a
DTSTAMP:20260421T022757Z
DESCRIPTION:Community Advocates Public Policy Institute and the Milwaukee C
 ounty Substance Abuse Prevention coalition are pleased to offer this no-co
 st\, two-day training for education and other professionals to learn how t
 o identify chemically impaired individuals. \n\nDrug Impairment Training f
 or Education Professionals (DITEP) is aimed toward educators\, school nurs
 es\, administrators\, law enforcement\, parents\, nonprofit professionals\
 , and youth-serving organizations. Participants will learn how to assess i
 ndividuals for substance use and ensure a safe environment for all.\n\n<b>
 There is no cost to attend\, and participants will receive a manual and lu
 nch. RSVP at the link below as space is limited. </b>
DTSTART;TZID=America/Chicago:20191114T090000
DTEND;TZID=America/Chicago:20191115T160000
LOCATION:Community Advocates Training Center\, 6900 W. Brown Deer Road\, Mi
 lwaukee
SUMMARY:Drug Impairment Training for Education Professionals
END:VEVENT
END:VCALENDAR
