BEGIN:VCALENDAR
VERSION:2.0
PRODID:-//ppi.communityadvocates.net//NONSGML kigkonsult.se iCalcreator 2.3
 0.10//
CALSCALE:GREGORIAN
METHOD:PUBLISH
UID:18cf0fc8-d954-46ee-b321-2d6a148a868c
X-WR-CALDESC:At a time when quality employees are at a premium\, the Southe
 ast WI Reentry Employer Networking Expo will provide access to a pool of p
 otentially untapped labor talent.\n\nAt the Southeast WI Reentry Employer 
 Networking Expo\, employers will be able to network and connect with agenc
 ies that can assist their organization with the identification and evaluat
 ion of qualified\, work-ready returning citizen jobseekers.\n\n+ Referrals
  of qualified candidates\n+ Potential training subsidies\n+ On the Job Tra
 ining opportunities\n+ Case management\n+ Supportive Services\n+ Bonding a
 nd Work Opportunity Tax Credits benefits\n\n<b>This community event is fre
 e and employers can stop in anytime.</b>\n\nSponsored by:\n+ Milwaukee Com
 munity Justice Council\n+ Archdiocese of Milwaukee Office for Urban Minist
 ry\n+ Employ Milwaukee\n+ Interfaith Conference Cabinet\n+ Milwaukee Count
 y Office of African American Affairs\n+ Milwaukee Reentry Council\n+ U.S. 
 Attorney's Office Eastern District\n+ WRTP | BIG STEP\n\n<b>Registration i
 s encouraged but not required at the link below.</b>\n
X-WR-RELCALID:f1959c26d57b23ae647fa7beec3775a2
X-WR-TIMEZONE:America/Chicago
BEGIN:VTIMEZONE
TZID:America/Chicago
BEGIN:STANDARD
TZNAME:CST
DTSTART:20181104T020000
TZOFFSETFROM:-0500
TZOFFSETTO:-0600
RDATE:20191103T020000
RDATE:20201101T020000
END:STANDARD
BEGIN:DAYLIGHT
TZNAME:CDT
DTSTART:20190310T020000
TZOFFSETFROM:-0600
TZOFFSETTO:-0500
RDATE:20200308T020000
RDATE:20210314T020000
END:DAYLIGHT
END:VTIMEZONE
BEGIN:VEVENT
UID:65c52f72-75c9-4bf7-b424-c3f712c00b04
DTSTAMP:20260421T034819Z
DESCRIPTION:At a time when quality employees are at a premium\, the Southea
 st WI Reentry Employer Networking Expo will provide access to a pool of po
 tentially untapped labor talent.\n\nAt the Southeast WI Reentry Employer N
 etworking Expo\, employers will be able to network and connect with agenci
 es that can assist their organization with the identification and evaluati
 on of qualified\, work-ready returning citizen jobseekers.\n\n+ Referrals 
 of qualified candidates\n+ Potential training subsidies\n+ On the Job Trai
 ning opportunities\n+ Case management\n+ Supportive Services\n+ Bonding an
 d Work Opportunity Tax Credits benefits\n\n<b>This community event is free
  and employers can stop in anytime.</b>\n\nSponsored by:\n+ Milwaukee Comm
 unity Justice Council\n+ Archdiocese of Milwaukee Office for Urban Ministr
 y\n+ Employ Milwaukee\n+ Interfaith Conference Cabinet\n+ Milwaukee County
  Office of African American Affairs\n+ Milwaukee Reentry Council\n+ U.S. A
 ttorney's Office Eastern District\n+ WRTP | BIG STEP\n\n<b>Registration is
  encouraged but not required at the link below.</b>\n
DTSTART;TZID=America/Chicago:20191024T080000
DTEND;TZID=America/Chicago:20191024T160000
LOCATION:The Mary Mother of the Church Pastoral Center\, 3501 S. Lake Drive
 \, Milwaukee
SUMMARY:Southeast WI Reentry Employer Networking Expo
END:VEVENT
END:VCALENDAR
