BEGIN:VCALENDAR
VERSION:2.0
PRODID:-//ppi.communityadvocates.net//NONSGML kigkonsult.se iCalcreator 2.3
 0.10//
CALSCALE:GREGORIAN
METHOD:PUBLISH
UID:d8968be3-ed9d-4160-9b71-49caa5400250
X-WR-CALDESC:MCSAP and our community partners will be providing Dose of Rea
 lity resources at the game between Franklin High School and Oak Creek High
  School at Oak Creek. This game will be broadcast live on My24 at 7 p.m. a
 nd will be livestreamed on My24Milwaukee.com as part of its Thursday Night
  Lights coverage.
X-WR-RELCALID:ca690d9760603cd2bcf8f00bc7edb229
X-WR-TIMEZONE:America/Chicago
BEGIN:VTIMEZONE
TZID:America/Chicago
BEGIN:STANDARD
TZNAME:CST
DTSTART:20181104T020000
TZOFFSETFROM:-0500
TZOFFSETTO:-0600
RDATE:20191103T020000
RDATE:20201101T020000
END:STANDARD
BEGIN:DAYLIGHT
TZNAME:CDT
DTSTART:20190310T020000
TZOFFSETFROM:-0600
TZOFFSETTO:-0500
RDATE:20200308T020000
RDATE:20210314T020000
END:DAYLIGHT
END:VTIMEZONE
BEGIN:VEVENT
UID:8dabb4a0-74dd-48c2-81e1-12b32b02e328
DTSTAMP:20260421T040217Z
DESCRIPTION:MCSAP and our community partners will be providing Dose of Real
 ity resources at the game between Franklin High School and Oak Creek High 
 School at Oak Creek. This game will be broadcast live on My24 at 7 p.m. an
 d will be livestreamed on My24Milwaukee.com as part of its Thursday Night 
 Lights coverage.
DTSTART;TZID=America/Chicago:20191017T190000
DTEND;TZID=America/Chicago:20191017T210000
LOCATION:Oak Creek High School\, 340 E Puetz Rd\, Oak Creek\, WI 53154
SUMMARY:MCSAP Dose of Reality Outreach at Franklin v. Oak Creek Football Ga
 me
END:VEVENT
END:VCALENDAR
