BEGIN:VCALENDAR
VERSION:2.0
PRODID:-//ppi.communityadvocates.net//NONSGML kigkonsult.se iCalcreator 2.3
 0.10//
CALSCALE:GREGORIAN
METHOD:PUBLISH
UID:c0a18c03-7950-408a-8e26-69b1bba4cec5
X-WR-CALDESC:Substance abuse prevention specialists\, youth workers\, couns
 elors\, and AODA counselors will be exposed to the National Child Traumati
 c Stress Network research on trauma and substance abuse. Participants will
  learn more about prevention-based self-care strategies designed to reduce
  substance abuse.\n\n<b>**Registration is required for this free event at 
 the link below.**</b>\n\nThis training is brought to you by Community Advo
 cates Public Policy Institute and the City of Milwaukee Office of Violence
  Prevention\, thanks to a ReCAST Milwaukee grant.
X-WR-RELCALID:f9ee75233fd62ed58baea1ca2c357c92
X-WR-TIMEZONE:America/Chicago
BEGIN:VTIMEZONE
TZID:America/Chicago
BEGIN:STANDARD
TZNAME:CST
DTSTART:20181104T020000
TZOFFSETFROM:-0500
TZOFFSETTO:-0600
RDATE:20191103T020000
RDATE:20201101T020000
END:STANDARD
BEGIN:DAYLIGHT
TZNAME:CDT
DTSTART:20190310T020000
TZOFFSETFROM:-0600
TZOFFSETTO:-0500
RDATE:20200308T020000
RDATE:20210314T020000
END:DAYLIGHT
END:VTIMEZONE
BEGIN:VEVENT
UID:27f90fe0-f103-489d-9551-68d72f545292
DTSTAMP:20260421T034320Z
DESCRIPTION:Substance abuse prevention specialists\, youth workers\, counse
 lors\, and AODA counselors will be exposed to the National Child Traumatic
  Stress Network research on trauma and substance abuse. Participants will 
 learn more about prevention-based self-care strategies designed to reduce 
 substance abuse.\n\n<b>**Registration is required for this free event at t
 he link below.**</b>\n\nThis training is brought to you by Community Advoc
 ates Public Policy Institute and the City of Milwaukee Office of Violence 
 Prevention\, thanks to a ReCAST Milwaukee grant.
DTSTART;TZID=America/Chicago:20191015T160000
DTEND;TZID=America/Chicago:20191015T190000
LOCATION:Community Advocates Training Center\, 6900 W. Brown Deer Road\, Mi
 lwaukee
SUMMARY:Substance Abuse and Trauma Training
END:VEVENT
END:VCALENDAR
