BEGIN:VCALENDAR
VERSION:2.0
PRODID:-//ppi.communityadvocates.net//NONSGML kigkonsult.se iCalcreator 2.3
 0.10//
CALSCALE:GREGORIAN
METHOD:PUBLISH
UID:5ff971c1-1a93-4926-a0ad-50a9170fe527
X-WR-CALDESC:Did you know that in Wisconsin\, local municipalities hold gre
 at power over their alcohol policies? Coalition leaders and concerned  res
 idents are invited to this 90-minute session on local licensing decisions 
 and related policies that can improve a community’s quality of life and pu
 blic safety. Topics to be covered include:\n\n+ Alcohol licensing\n+ Outdo
 or events and festivals \n+ Alcohol age compliance checks\n+ Tackling loca
 l problems through ordinances\n\nEach participant will receive reference m
 aterials and step-by-step guides to understanding your local licensing pro
 cess and regulations. Presented by Julia Sherman\, Coordinator of the Wisc
 onsin Alcohol Policy Project.\n\nThis presentation is part of a comprehens
 ive look at our drinking culture\, both nationally and in Wisconsin\, and 
 what local advocates can do to prevent the harm associated with problemati
 c alcohol consumption.\n\nThis no-cost session is brought to you by the So
 utheastern Region of the Alliance for Wisconsin Youth and the Milwaukee Co
 unty Substance Abuse Prevention Coalition (MCSAP).\n\n<b>Registration is r
 equired for this free community event at the link below.</b>
X-WR-RELCALID:bc29af809561c398256c1225ea095d19
X-WR-TIMEZONE:America/Chicago
BEGIN:VTIMEZONE
TZID:America/Chicago
BEGIN:STANDARD
TZNAME:CST
DTSTART:20181104T020000
TZOFFSETFROM:-0500
TZOFFSETTO:-0600
RDATE:20191103T020000
RDATE:20201101T020000
END:STANDARD
BEGIN:DAYLIGHT
TZNAME:CDT
DTSTART:20190310T020000
TZOFFSETFROM:-0600
TZOFFSETTO:-0500
RDATE:20200308T020000
RDATE:20210314T020000
END:DAYLIGHT
END:VTIMEZONE
BEGIN:VEVENT
UID:9ea2bf14-0049-466a-8a9c-71401c8d8a32
DTSTAMP:20260421T035620Z
DESCRIPTION:Did you know that in Wisconsin\, local municipalities hold grea
 t power over their alcohol policies? Coalition leaders and concerned  resi
 dents are invited to this 90-minute session on local licensing decisions a
 nd related policies that can improve a community’s quality of life and pub
 lic safety. Topics to be covered include:\n\n+ Alcohol licensing\n+ Outdoo
 r events and festivals \n+ Alcohol age compliance checks\n+ Tackling local
  problems through ordinances\n\nEach participant will receive reference ma
 terials and step-by-step guides to understanding your local licensing proc
 ess and regulations. Presented by Julia Sherman\, Coordinator of the Wisco
 nsin Alcohol Policy Project.\n\nThis presentation is part of a comprehensi
 ve look at our drinking culture\, both nationally and in Wisconsin\, and w
 hat local advocates can do to prevent the harm associated with problematic
  alcohol consumption.\n\nThis no-cost session is brought to you by the Sou
 theastern Region of the Alliance for Wisconsin Youth and the Milwaukee Cou
 nty Substance Abuse Prevention Coalition (MCSAP).\n\n<b>Registration is re
 quired for this free community event at the link below.</b>
DTSTART;TZID=America/Chicago:20191009T173000
DTEND;TZID=America/Chicago:20191009T190000
LOCATION:United Way of Greater Milwaukee and Waukesha County Volunteer Cent
 er\, 225 W. Vine St.\, Milwaukee
SUMMARY:Don't React: Create Your Alcohol Environment
END:VEVENT
END:VCALENDAR
