BEGIN:VCALENDAR
VERSION:2.0
PRODID:-//ppi.communityadvocates.net//NONSGML kigkonsult.se iCalcreator 2.3
 0.10//
CALSCALE:GREGORIAN
METHOD:PUBLISH
UID:96cf73f3-ce8a-4086-8160-e91d657bce2e
X-WR-CALDESC:This keynote explores America’s cultural relationship to alcoh
 ol\, from the 13 colonies and Prohibition to today’s music and movies\, to
  allow prevention advocates to step back and look at the much bigger pictu
 re of the cultural and historical context of what we are trying to accompl
 ish. Using humor and examples from history\, movies\, music\, television\,
  and more\, Rodney Wambeam will provide the larger context of what it mean
 s to prevent the misuse\, abuse\, and devastating consequences of a substa
 nce that has always been part of the American experience. Rodney Wambeam\,
  Ph.D.\, is a Senior Research Scientist at the Wyoming Survey & Analysis C
 enter of the University of Wyoming.\n\nThis presentation is part of a comp
 rehensive look at our drinking culture\, both nationally and in Wisconsin\
 , and what local advocates can do to prevent the harm associated with prob
 lematic alcohol consumption.\n\nThis no-cost session is brought to you by 
 the Southeastern Region of the Alliance for Wisconsin Youth and the Milwau
 kee County Substance Abuse Prevention Coalition (MCSAP).\n\n<b>Registratio
 n is required for this free community event at the link below.</b>
X-WR-RELCALID:f7ce4004cd82709fa942e71e8c71ee89
X-WR-TIMEZONE:America/Chicago
BEGIN:VTIMEZONE
TZID:America/Chicago
BEGIN:STANDARD
TZNAME:CST
DTSTART:20181104T020000
TZOFFSETFROM:-0500
TZOFFSETTO:-0600
RDATE:20191103T020000
RDATE:20201101T020000
END:STANDARD
BEGIN:DAYLIGHT
TZNAME:CDT
DTSTART:20190310T020000
TZOFFSETFROM:-0600
TZOFFSETTO:-0500
RDATE:20200308T020000
RDATE:20210314T020000
END:DAYLIGHT
END:VTIMEZONE
BEGIN:VEVENT
UID:8052862d-01c9-4a52-8202-a950cec9bd77
DTSTAMP:20260421T033625Z
DESCRIPTION:This keynote explores America’s cultural relationship to alcoho
 l\, from the 13 colonies and Prohibition to today’s music and movies\, to 
 allow prevention advocates to step back and look at the much bigger pictur
 e of the cultural and historical context of what we are trying to accompli
 sh. Using humor and examples from history\, movies\, music\, television\, 
 and more\, Rodney Wambeam will provide the larger context of what it means
  to prevent the misuse\, abuse\, and devastating consequences of a substan
 ce that has always been part of the American experience. Rodney Wambeam\, 
 Ph.D.\, is a Senior Research Scientist at the Wyoming Survey & Analysis Ce
 nter of the University of Wyoming.\n\nThis presentation is part of a compr
 ehensive look at our drinking culture\, both nationally and in Wisconsin\,
  and what local advocates can do to prevent the harm associated with probl
 ematic alcohol consumption.\n\nThis no-cost session is brought to you by t
 he Southeastern Region of the Alliance for Wisconsin Youth and the Milwauk
 ee County Substance Abuse Prevention Coalition (MCSAP).\n\n<b>Registration
  is required for this free community event at the link below.</b>
DTSTART;TZID=America/Chicago:20191008T173000
DTEND;TZID=America/Chicago:20191008T190000
LOCATION:United Way of Greater Milwaukee and Waukesha County Volunteer Cent
 er\, 225 W. Vine St.\, Milwaukee
SUMMARY:There Has Always Been Drinking in America
END:VEVENT
END:VCALENDAR
