BEGIN:VCALENDAR
VERSION:2.0
PRODID:-//ppi.communityadvocates.net//NONSGML kigkonsult.se iCalcreator 2.3
 0.10//
CALSCALE:GREGORIAN
METHOD:PUBLISH
UID:adb044e6-8b8e-4c12-b749-6c6c6ef3d258
X-WR-CALDESC:MCSAP and our community partners will be providing Dose of Rea
 lity resources at the game between Rufus King High School and Riverside Hi
 gh School at Pulaski Stadium. This game will be broadcast live on My24 at 
 7 p.m. and will be livestreamed on My24Milwaukee.com as part of its Thursd
 ay Night Lights coverage.
X-WR-RELCALID:b5c0f6b10ed63f0fa4dd360194b8b298
X-WR-TIMEZONE:America/Chicago
BEGIN:VTIMEZONE
TZID:America/Chicago
BEGIN:STANDARD
TZNAME:CST
DTSTART:20181104T020000
TZOFFSETFROM:-0500
TZOFFSETTO:-0600
RDATE:20191103T020000
RDATE:20201101T020000
END:STANDARD
BEGIN:DAYLIGHT
TZNAME:CDT
DTSTART:20190310T020000
TZOFFSETFROM:-0600
TZOFFSETTO:-0500
RDATE:20200308T020000
RDATE:20210314T020000
END:DAYLIGHT
END:VTIMEZONE
BEGIN:VEVENT
UID:08f60bc3-141c-4d55-897e-792d56d9e6f9
DTSTAMP:20260421T034320Z
DESCRIPTION:MCSAP and our community partners will be providing Dose of Real
 ity resources at the game between Rufus King High School and Riverside Hig
 h School at Pulaski Stadium. This game will be broadcast live on My24 at 7
  p.m. and will be livestreamed on My24Milwaukee.com as part of its Thursda
 y Night Lights coverage.
DTSTART;TZID=America/Chicago:20191003T190000
DTEND;TZID=America/Chicago:20191003T210000
LOCATION:Pulaski Stadium\, 2500 W Oklahoma Ave.\, Milwaukee\, WI 53215
SUMMARY:MCSAP Dose of Reality Outreach at Rufus King v. Riverside Football 
 Game
END:VEVENT
END:VCALENDAR
