BEGIN:VCALENDAR
VERSION:2.0
PRODID:-//ppi.communityadvocates.net//NONSGML kigkonsult.se iCalcreator 2.3
 0.10//
CALSCALE:GREGORIAN
METHOD:PUBLISH
UID:79a2be9e-7943-4bfa-9c78-6da21fbd4411
X-WR-CALDESC:This is a tabletop game experience that builds an understandin
 g of the powerful role of experiences on early brain development. If your 
 organization or community is embarking on a conversation about adverse chi
 ldhood experiences\, toxic stress\, or other early childhood issues\, The 
 Brain Architecture Game can be a valuable resource for creating a common u
 nderstanding and a common language on these topics. \n\n<b>This training i
 s offered free of charge thanks to a ReCAST MKE grant from the City of Mil
 waukee Office of Violence Prevention. RSVPs are required at the link below
 .</b>
X-WR-RELCALID:9a715e88b48aba83c38ac0e4737a9000
X-WR-TIMEZONE:America/Chicago
BEGIN:VTIMEZONE
TZID:America/Chicago
BEGIN:STANDARD
TZNAME:CST
DTSTART:20181104T020000
TZOFFSETFROM:-0500
TZOFFSETTO:-0600
RDATE:20191103T020000
RDATE:20201101T020000
END:STANDARD
BEGIN:DAYLIGHT
TZNAME:CDT
DTSTART:20190310T020000
TZOFFSETFROM:-0600
TZOFFSETTO:-0500
RDATE:20200308T020000
RDATE:20210314T020000
END:DAYLIGHT
END:VTIMEZONE
BEGIN:VEVENT
UID:8fa78af2-106e-4c20-9df5-ad0f268ffb28
DTSTAMP:20260421T052843Z
DESCRIPTION:This is a tabletop game experience that builds an understanding
  of the powerful role of experiences on early brain development. If your o
 rganization or community is embarking on a conversation about adverse chil
 dhood experiences\, toxic stress\, or other early childhood issues\, The B
 rain Architecture Game can be a valuable resource for creating a common un
 derstanding and a common language on these topics. \n\n<b>This training is
  offered free of charge thanks to a ReCAST MKE grant from the City of Milw
 aukee Office of Violence Prevention. RSVPs are required at the link below.
 </b>
DTSTART;TZID=America/Chicago:20190927T160000
DTEND;TZID=America/Chicago:20190927T180000
LOCATION:The Greater Milwaukee Foundation 101 W. Pleasant St.\, Suite 210\,
  Milwaukee
SUMMARY:The Brain Architecture Game
END:VEVENT
END:VCALENDAR
