BEGIN:VCALENDAR
VERSION:2.0
PRODID:-//ppi.communityadvocates.net//NONSGML kigkonsult.se iCalcreator 2.3
 0.10//
CALSCALE:GREGORIAN
METHOD:PUBLISH
UID:0ac5f03f-e003-4f12-8a41-20ea8840ead7
X-WR-CALDESC:MCSAP and our community partners will be providing Dose of Rea
 lity resources at the game between Waukesha North High School and Waukesha
  West High School at Waukesha West. This game will be broadcast live on My
 24 at 7 p.m. and will be livestreamed on My24Milwaukee.com as part of its 
 Thursday Night Lights coverage.
X-WR-RELCALID:0af28a5a771a4d6aa5aa7a3e1719e63e
X-WR-TIMEZONE:America/Chicago
BEGIN:VTIMEZONE
TZID:America/Chicago
BEGIN:STANDARD
TZNAME:CST
DTSTART:20181104T020000
TZOFFSETFROM:-0500
TZOFFSETTO:-0600
RDATE:20191103T020000
RDATE:20201101T020000
END:STANDARD
BEGIN:DAYLIGHT
TZNAME:CDT
DTSTART:20190310T020000
TZOFFSETFROM:-0600
TZOFFSETTO:-0500
RDATE:20200308T020000
RDATE:20210314T020000
END:DAYLIGHT
END:VTIMEZONE
BEGIN:VEVENT
UID:af5be32f-dc73-4eeb-8193-9452cf7e37b9
DTSTAMP:20260421T053534Z
DESCRIPTION:MCSAP and our community partners will be providing Dose of Real
 ity resources at the game between Waukesha North High School and Waukesha 
 West High School at Waukesha West. This game will be broadcast live on My2
 4 at 7 p.m. and will be livestreamed on My24Milwaukee.com as part of its T
 hursday Night Lights coverage.
DTSTART;TZID=America/Chicago:20190926T190000
DTEND;TZID=America/Chicago:20190926T210000
LOCATION:Waukesha West High School\, 3301 Saylesville Rd\, Waukesha\, WI 53
 189
SUMMARY:MCSAP Dose of Reality Outreach at Waukesha North v. Waukesha West F
 ootball Game
END:VEVENT
END:VCALENDAR
