BEGIN:VCALENDAR
VERSION:2.0
PRODID:-//ppi.communityadvocates.net//NONSGML kigkonsult.se iCalcreator 2.3
 0.10//
CALSCALE:GREGORIAN
METHOD:PUBLISH
UID:ffaf07c4-90e9-432c-a1e2-5895310596dc
X-WR-CALDESC:MCSAP and our community partners will be providing Dose of Rea
 lity resources at the game between Homestead High School and Whitefish Bay
  High School at Whitefish Bay. This game will be broadcast live on My24 at
  7 p.m. and will be livestreamed on My24Milwaukee.com as part of its Thurs
 day Night Lights coverage.
X-WR-RELCALID:915b495ab15e3964bdb37ba1a0ea76d8
X-WR-TIMEZONE:America/Chicago
BEGIN:VTIMEZONE
TZID:America/Chicago
BEGIN:STANDARD
TZNAME:CST
DTSTART:20181104T020000
TZOFFSETFROM:-0500
TZOFFSETTO:-0600
RDATE:20191103T020000
RDATE:20201101T020000
END:STANDARD
BEGIN:DAYLIGHT
TZNAME:CDT
DTSTART:20190310T020000
TZOFFSETFROM:-0600
TZOFFSETTO:-0500
RDATE:20200308T020000
RDATE:20210314T020000
END:DAYLIGHT
END:VTIMEZONE
BEGIN:VEVENT
UID:069903e5-8416-464d-bbd5-4701ee89c225
DTSTAMP:20260421T053513Z
DESCRIPTION:MCSAP and our community partners will be providing Dose of Real
 ity resources at the game between Homestead High School and Whitefish Bay 
 High School at Whitefish Bay. This game will be broadcast live on My24 at 
 7 p.m. and will be livestreamed on My24Milwaukee.com as part of its Thursd
 ay Night Lights coverage.
DTSTART;TZID=America/Chicago:20190919T190000
DTEND;TZID=America/Chicago:20190919T210000
LOCATION:Whitefish Bay High School\, 1200 E Fairmount Ave\, Milwaukee\, WI 
 53217
SUMMARY:MCSAP Dose of Reality Outreach at Homestead v. Whitefish Bay Footba
 ll Game
END:VEVENT
END:VCALENDAR
