BEGIN:VCALENDAR
VERSION:2.0
PRODID:-//ppi.communityadvocates.net//NONSGML kigkonsult.se iCalcreator 2.3
 0.10//
CALSCALE:GREGORIAN
METHOD:PUBLISH
UID:f8b4eb82-6fbc-4027-9c6c-9f1d1dc6845d
X-WR-CALDESC:Members of the MCSAP coalition will meet from noon to 2:30 p.m
 . Location to be determined. Interested in attending? Contact us at the li
 nk below.
X-WR-RELCALID:10d23056b4c29b0da54ce379cd786be7
X-WR-TIMEZONE:America/Chicago
BEGIN:VTIMEZONE
TZID:America/Chicago
BEGIN:STANDARD
TZNAME:CST
DTSTART:20181104T020000
TZOFFSETFROM:-0500
TZOFFSETTO:-0600
RDATE:20191103T020000
RDATE:20201101T020000
END:STANDARD
BEGIN:DAYLIGHT
TZNAME:CDT
DTSTART:20190310T020000
TZOFFSETFROM:-0600
TZOFFSETTO:-0500
RDATE:20200308T020000
RDATE:20210314T020000
END:DAYLIGHT
END:VTIMEZONE
BEGIN:VEVENT
UID:800fd071-682a-4d0b-a625-42cc0f5943b3
DTSTAMP:20260421T052818Z
DESCRIPTION:Members of the MCSAP coalition will meet from noon to 2:30 p.m.
  Location to be determined. Interested in attending? Contact us at the lin
 k below.
DTSTART;TZID=America/Chicago:20190919T120000
DTEND;TZID=America/Chicago:20190919T143000
LOCATION:To Be Announced
SUMMARY:MCSAP Coalition Meeting
END:VEVENT
END:VCALENDAR
