BEGIN:VCALENDAR
VERSION:2.0
PRODID:-//ppi.communityadvocates.net//NONSGML kigkonsult.se iCalcreator 2.3
 0.10//
CALSCALE:GREGORIAN
METHOD:PUBLISH
UID:8922b526-12a9-44a0-a337-678289b80ac8
X-WR-CALDESC:Michael McNett\, MD\, Medical Director for Chronic Pain\, Auro
 ra Greater Milwaukee South\, WI\, and Physician Faculty\, Opioid Prescribi
 ng Education\, Wisconsin Medical Society\, is leading this session on alte
 rnatives to opioids. Primary care physicians\, specialty physicians\, alli
 ed health professionals\, nurses\, social workers\, and professional staff
  are invited to attend this free workshop.\n\nThis course has been approve
 d by the Wisconsin Medical Examining Board as meeting the requirements for
  the two-hour continuing education course on responsible opioid prescribin
 g per Med 13.03(3) of the Wisconsin Administrative Code.\n\n<b>There is no
  cost to attend. Lunch is included.</b>\n\nSponsors are Milwaukee County S
 ubstance Abuse Prevention coalition (MCSAP) and the Wisconsin Medical Soci
 ety.\n\nRSVP now!\n
X-WR-RELCALID:609a13ae5a9bef0cc6cb7270019958a3
X-WR-TIMEZONE:America/Chicago
BEGIN:VTIMEZONE
TZID:America/Chicago
BEGIN:STANDARD
TZNAME:CST
DTSTART:20181104T020000
TZOFFSETFROM:-0500
TZOFFSETTO:-0600
RDATE:20191103T020000
RDATE:20201101T020000
END:STANDARD
BEGIN:DAYLIGHT
TZNAME:CDT
DTSTART:20190310T020000
TZOFFSETFROM:-0600
TZOFFSETTO:-0500
RDATE:20200308T020000
RDATE:20210314T020000
END:DAYLIGHT
END:VTIMEZONE
BEGIN:VEVENT
UID:8f76df5e-c07a-4b19-8710-0466a3a0284c
DTSTAMP:20260421T053207Z
DESCRIPTION:Michael McNett\, MD\, Medical Director for Chronic Pain\, Auror
 a Greater Milwaukee South\, WI\, and Physician Faculty\, Opioid Prescribin
 g Education\, Wisconsin Medical Society\, is leading this session on alter
 natives to opioids. Primary care physicians\, specialty physicians\, allie
 d health professionals\, nurses\, social workers\, and professional staff 
 are invited to attend this free workshop.\n\nThis course has been approved
  by the Wisconsin Medical Examining Board as meeting the requirements for 
 the two-hour continuing education course on responsible opioid prescribing
  per Med 13.03(3) of the Wisconsin Administrative Code.\n\n<b>There is no 
 cost to attend. Lunch is included.</b>\n\nSponsors are Milwaukee County Su
 bstance Abuse Prevention coalition (MCSAP) and the Wisconsin Medical Socie
 ty.\n\nRSVP now!\n
DTSTART;TZID=America/Chicago:20190913T100000
DTEND;TZID=America/Chicago:20190913T120000
LOCATION:Aurora Sinai Medical Center – Rapkin Auditorium\, 945 N. 12th St.\
 , Milwaukee
SUMMARY:Alternatives to Opioids in Treating Acute and Chronic Pain
END:VEVENT
END:VCALENDAR
