BEGIN:VCALENDAR
VERSION:2.0
PRODID:-//ppi.communityadvocates.net//NONSGML kigkonsult.se iCalcreator 2.3
 0.10//
CALSCALE:GREGORIAN
METHOD:PUBLISH
UID:b453d9c7-d74e-483d-8add-8c6e8e0e9076
X-WR-CALDESC:MCSAP and our community partners will be providing Dose of Rea
 lity resources at the game between Greendale High School and Pewaukee High
  School at Pewaukee. This game will be broadcast live on My24 at 7 p.m. an
 d will be livestreamed on My24Milwaukee.com as part of its Thursday Night 
 Lights coverage.
X-WR-RELCALID:e668184d2cdaa3af3c574ef13c079566
X-WR-TIMEZONE:America/Chicago
BEGIN:VTIMEZONE
TZID:America/Chicago
BEGIN:STANDARD
TZNAME:CST
DTSTART:20181104T020000
TZOFFSETFROM:-0500
TZOFFSETTO:-0600
RDATE:20191103T020000
RDATE:20201101T020000
END:STANDARD
BEGIN:DAYLIGHT
TZNAME:CDT
DTSTART:20190310T020000
TZOFFSETFROM:-0600
TZOFFSETTO:-0500
RDATE:20200308T020000
END:DAYLIGHT
END:VTIMEZONE
BEGIN:VEVENT
UID:ccb3495d-e482-4300-99d4-a62ad7ae38f4
DTSTAMP:20260421T053334Z
DESCRIPTION:MCSAP and our community partners will be providing Dose of Real
 ity resources at the game between Greendale High School and Pewaukee High 
 School at Pewaukee. This game will be broadcast live on My24 at 7 p.m. and
  will be livestreamed on My24Milwaukee.com as part of its Thursday Night L
 ights coverage.
DTSTART;TZID=America/Chicago:20190912T190000
DTEND;TZID=America/Chicago:20190912T210000
LOCATION:Pewaukee High School\, 510 Lake St\, Pewaukee\, WI 53072
SUMMARY:MCSAP Dose of Reality Outreach at Greendale v. Pewaukee Football Ga
 me
END:VEVENT
END:VCALENDAR
