BEGIN:VCALENDAR
VERSION:2.0
PRODID:-//ppi.communityadvocates.net//NONSGML kigkonsult.se iCalcreator 2.3
 0.10//
CALSCALE:GREGORIAN
METHOD:PUBLISH
UID:6bcf9abb-d8e0-4f3a-b53a-c7e019725035
X-WR-CALDESC:MCSAP and our community partners will be providing Dose of Rea
 lity resources at the game between Mukwonago High School and Catholic Memo
 rial High School at Carroll University. This game will be broadcast live o
 n My24 at 7 p.m. and will be livestreamed on My24Milwaukee.com as part of 
 its Thursday Night Lights coverage.
X-WR-RELCALID:5456da89ed4914a6eba6475df9503181
X-WR-TIMEZONE:America/Chicago
BEGIN:VTIMEZONE
TZID:America/Chicago
BEGIN:STANDARD
TZNAME:CST
DTSTART:20181104T020000
TZOFFSETFROM:-0500
TZOFFSETTO:-0600
RDATE:20191103T020000
RDATE:20201101T020000
END:STANDARD
BEGIN:DAYLIGHT
TZNAME:CDT
DTSTART:20190310T020000
TZOFFSETFROM:-0600
TZOFFSETTO:-0500
RDATE:20200308T020000
END:DAYLIGHT
END:VTIMEZONE
BEGIN:VEVENT
UID:21aee8c0-c5a3-484d-851e-32c8153bd760
DTSTAMP:20260421T053422Z
DESCRIPTION:MCSAP and our community partners will be providing Dose of Real
 ity resources at the game between Mukwonago High School and Catholic Memor
 ial High School at Carroll University. This game will be broadcast live on
  My24 at 7 p.m. and will be livestreamed on My24Milwaukee.com as part of i
 ts Thursday Night Lights coverage.
DTSTART;TZID=America/Chicago:20190905T190000
DTEND;TZID=America/Chicago:20190905T210000
LOCATION:Carroll University\, 100 N East Ave\, Waukesha\, WI 53186
SUMMARY:MCSAP Dose of Reality Outreach at Mukwonago v. Catholic Memorial Fo
 otball Game
END:VEVENT
END:VCALENDAR
