BEGIN:VCALENDAR
VERSION:2.0
PRODID:-//ppi.communityadvocates.net//NONSGML kigkonsult.se iCalcreator 2.3
 0.10//
CALSCALE:GREGORIAN
METHOD:PUBLISH
UID:09012de5-fbcb-4968-bca2-40f67367a7e7
X-WR-CALDESC:<b>NOTE: We are canceling this Brain Architecture Game trainin
 g but we'll offer it again in the near future. Stay tuned for more informa
 tion!</b>\n\nThis is a tabletop game experience that builds an understandi
 ng of the powerful role of experiences on early brain development. If your
  organization or community is embarking on a conversation about adverse ch
 ildhood experiences\, toxic stress\, or \nother early childhood issues\, T
 he Brain Architecture Game can be a valuable resource for creating a commo
 n understanding of and a common language about these topics.\n\nThis train
 ing is sponsored by ReCast MKE through the City of Milwaukee Office of Vio
 lence Prevention in partnership with Community Advocates Public Policy Ins
 titute. \n
X-WR-RELCALID:022c27ae82241dcd8e2f55efbe617c4a
X-WR-TIMEZONE:America/Chicago
BEGIN:VTIMEZONE
TZID:America/Chicago
BEGIN:STANDARD
TZNAME:CST
DTSTART:20181104T020000
TZOFFSETFROM:-0500
TZOFFSETTO:-0600
RDATE:20191103T020000
RDATE:20201101T020000
END:STANDARD
BEGIN:DAYLIGHT
TZNAME:CDT
DTSTART:20190310T020000
TZOFFSETFROM:-0600
TZOFFSETTO:-0500
RDATE:20200308T020000
END:DAYLIGHT
END:VTIMEZONE
BEGIN:VEVENT
UID:845c91f6-b67d-4f53-b36e-eba167b3353e
DTSTAMP:20260421T065011Z
DESCRIPTION:<b>NOTE: We are canceling this Brain Architecture Game training
  but we'll offer it again in the near future. Stay tuned for more informat
 ion!</b>\n\nThis is a tabletop game experience that builds an understandin
 g of the powerful role of experiences on early brain development. If your 
 organization or community is embarking on a conversation about adverse chi
 ldhood experiences\, toxic stress\, or \nother early childhood issues\, Th
 e Brain Architecture Game can be a valuable resource for creating a common
  understanding of and a common language about these topics.\n\nThis traini
 ng is sponsored by ReCast MKE through the City of Milwaukee Office of Viol
 ence Prevention in partnership with Community Advocates Public Policy Inst
 itute. \n
DTSTART;TZID=America/Chicago:20190829T130000
DTEND;TZID=America/Chicago:20190829T150000
LOCATION:Community Advocates Training Center 6900 W. Brown Deer Road\, Milw
 aukee
SUMMARY:The Brain Architecture Game -- CANCELED!
END:VEVENT
END:VCALENDAR
