BEGIN:VCALENDAR
VERSION:2.0
PRODID:-//ppi.communityadvocates.net//NONSGML kigkonsult.se iCalcreator 2.3
 0.10//
CALSCALE:GREGORIAN
METHOD:PUBLISH
UID:e759e226-c6e1-4422-b94d-d2e126a2d8ee
X-WR-CALDESC:MCSAP and our community partners will be providing Dose of Rea
 lity resources at the game between Germantown High School and Wauwatosa We
 st High School at Wauwatosa West. This game will be broadcast live on My24
  at 7 p.m. and will be livestreamed on My24Milwaukee.com as part of its Th
 ursday Night Lights coverage.
X-WR-RELCALID:b25f0a406331634ff7251469b571b375
X-WR-TIMEZONE:America/Chicago
BEGIN:VTIMEZONE
TZID:America/Chicago
BEGIN:STANDARD
TZNAME:CST
DTSTART:20181104T020000
TZOFFSETFROM:-0500
TZOFFSETTO:-0600
RDATE:20191103T020000
RDATE:20201101T020000
END:STANDARD
BEGIN:DAYLIGHT
TZNAME:CDT
DTSTART:20190310T020000
TZOFFSETFROM:-0600
TZOFFSETTO:-0500
RDATE:20200308T020000
END:DAYLIGHT
END:VTIMEZONE
BEGIN:VEVENT
UID:24693537-c45f-4e7e-bbd9-8ea2edc3d910
DTSTAMP:20260421T065246Z
DESCRIPTION:MCSAP and our community partners will be providing Dose of Real
 ity resources at the game between Germantown High School and Wauwatosa Wes
 t High School at Wauwatosa West. This game will be broadcast live on My24 
 at 7 p.m. and will be livestreamed on My24Milwaukee.com as part of its Thu
 rsday Night Lights coverage.
DTSTART;TZID=America/Chicago:20190829T190000
DTEND;TZID=America/Chicago:20190829T210000
LOCATION:Wauwatosa West High School\, 11400 W Center St\, Milwaukee\, WI 53
 222
SUMMARY:MCSAP Dose of Reality Outreach at Germantown v. Wauwatosa West Foot
 ball Game
END:VEVENT
END:VCALENDAR
