BEGIN:VCALENDAR
VERSION:2.0
PRODID:-//ppi.communityadvocates.net//NONSGML kigkonsult.se iCalcreator 2.3
 0.10//
CALSCALE:GREGORIAN
METHOD:PUBLISH
UID:b74b5094-40fa-4afb-a179-7e5ff9f7435f
X-WR-CALDESC:Enjoy this free family-friendly carnival-themed event brought 
 to you by COA Youth & Family Centers and partners\, including Community Ad
 vocates. Free carnival games\, bounce house\, food and fun\, and V100.7. T
 he first 500 attendees will receive free book bags!
X-WR-RELCALID:32ac99ef50af9333fab65cbaa72b4d88
X-WR-TIMEZONE:America/Chicago
BEGIN:VTIMEZONE
TZID:America/Chicago
BEGIN:STANDARD
TZNAME:CST
DTSTART:20181104T020000
TZOFFSETFROM:-0500
TZOFFSETTO:-0600
RDATE:20191103T020000
RDATE:20201101T020000
END:STANDARD
BEGIN:DAYLIGHT
TZNAME:CDT
DTSTART:20190310T020000
TZOFFSETFROM:-0600
TZOFFSETTO:-0500
RDATE:20200308T020000
END:DAYLIGHT
END:VTIMEZONE
BEGIN:VEVENT
UID:c7c96af9-50d4-440f-ae63-3e98c41cc1ee
DTSTAMP:20260421T065226Z
DESCRIPTION:Enjoy this free family-friendly carnival-themed event brought t
 o you by COA Youth & Family Centers and partners\, including Community Adv
 ocates. Free carnival games\, bounce house\, food and fun\, and V100.7. Th
 e first 500 attendees will receive free book bags!
DTSTART;TZID=America/Chicago:20190823T160000
DTEND;TZID=America/Chicago:20190823T190000
LOCATION:Moody Park\, 2320 W. Burleigh St.\, Milwaukee
SUMMARY:Beyond the Book Bag Carnival
END:VEVENT
END:VCALENDAR
