BEGIN:VCALENDAR
VERSION:2.0
PRODID:-//ppi.communityadvocates.net//NONSGML kigkonsult.se iCalcreator 2.3
 0.10//
CALSCALE:GREGORIAN
METHOD:PUBLISH
UID:356940dc-9f66-4b30-9847-7c94e965c3c2
X-WR-CALDESC:MCSAP and our community partners will be providing Dose of Rea
 lity resources at the game between Marquette University High School and Mu
 skego High School at Muskego. This game will be broadcast live on My24 at 
 7 p.m. and will be livestreamed on My24Milwaukee.com as part of its Thursd
 ay Night Lights coverage.
X-WR-RELCALID:807afbd11d36d5564449bd13ad648e33
X-WR-TIMEZONE:America/Chicago
BEGIN:VTIMEZONE
TZID:America/Chicago
BEGIN:STANDARD
TZNAME:CST
DTSTART:20181104T020000
TZOFFSETFROM:-0500
TZOFFSETTO:-0600
RDATE:20191103T020000
RDATE:20201101T020000
END:STANDARD
BEGIN:DAYLIGHT
TZNAME:CDT
DTSTART:20190310T020000
TZOFFSETFROM:-0600
TZOFFSETTO:-0500
RDATE:20200308T020000
END:DAYLIGHT
END:VTIMEZONE
BEGIN:VEVENT
UID:e968bd39-d8df-435a-970a-542325ce8bd1
DTSTAMP:20260421T064509Z
DESCRIPTION:MCSAP and our community partners will be providing Dose of Real
 ity resources at the game between Marquette University High School and Mus
 kego High School at Muskego. This game will be broadcast live on My24 at 7
  p.m. and will be livestreamed on My24Milwaukee.com as part of its Thursda
 y Night Lights coverage.
DTSTART;TZID=America/Chicago:20190822T190000
DTEND;TZID=America/Chicago:20190822T210000
LOCATION:Muskego High School\, W185S8750 Racine Ave\, Muskego\, WI 53150
SUMMARY:MCSAP Dose of Reality Outreach at Marquette University High v. Musk
 ego High Football Game
END:VEVENT
END:VCALENDAR
