BEGIN:VCALENDAR
VERSION:2.0
PRODID:-//ppi.communityadvocates.net//NONSGML kigkonsult.se iCalcreator 2.3
 0.10//
CALSCALE:GREGORIAN
METHOD:PUBLISH
UID:f65a338c-7816-44c2-80cf-7f09746283d7
X-WR-CALDESC:Prevention programs engage youth in developmental experiences 
 that create norms for\, and a social commitment to\, not engaging in unhea
 lthy behaviors. To do this effectively\, program facilitators must be comp
 etent in building relationships with youth\, managing classroom behaviors\
 , and helping youth build pro-social skills.\nThis training is designed to
  help youth work professionals:\n\n1. Build healthy relationships with you
 th in program settings.\n2. Learn simple strategies for managing classroom
  behaviors.\n3. Practice implementing skill-building techniques.  \n\n<b>+
 +RSVPs are required for this free community event. Click on the link below
  to register.++</b>\n\nThis training is sponsored by ReCast MKE through th
 e City of Milwaukee Office of Violence Prevention in partnership with Comm
 unity Advocates Public Policy Institute. \n\n
X-WR-RELCALID:760a8121f0cb6795bb0bdc2f0ed5fd7d
X-WR-TIMEZONE:America/Chicago
BEGIN:VTIMEZONE
TZID:America/Chicago
BEGIN:STANDARD
TZNAME:CST
DTSTART:20181104T020000
TZOFFSETFROM:-0500
TZOFFSETTO:-0600
RDATE:20191103T020000
RDATE:20201101T020000
END:STANDARD
BEGIN:DAYLIGHT
TZNAME:CDT
DTSTART:20190310T020000
TZOFFSETFROM:-0600
TZOFFSETTO:-0500
RDATE:20200308T020000
END:DAYLIGHT
END:VTIMEZONE
BEGIN:VEVENT
UID:f1511b8f-2de1-4994-9973-9ea8fdd0b01a
DTSTAMP:20260421T063909Z
DESCRIPTION:Prevention programs engage youth in developmental experiences t
 hat create norms for\, and a social commitment to\, not engaging in unheal
 thy behaviors. To do this effectively\, program facilitators must be compe
 tent in building relationships with youth\, managing classroom behaviors\,
  and helping youth build pro-social skills.\nThis training is designed to 
 help youth work professionals:\n\n1. Build healthy relationships with yout
 h in program settings.\n2. Learn simple strategies for managing classroom 
 behaviors.\n3. Practice implementing skill-building techniques.  \n\n<b>++
 RSVPs are required for this free community event. Click on the link below 
 to register.++</b>\n\nThis training is sponsored by ReCast MKE through the
  City of Milwaukee Office of Violence Prevention in partnership with Commu
 nity Advocates Public Policy Institute. \n\n
DTSTART;TZID=America/Chicago:20190812T110000
DTEND;TZID=America/Chicago:20190812T150000
LOCATION:Sojourner Family Peace Center\, 619 W. Walnut St.\, Milwaukee
SUMMARY:Building Prevention Programs
END:VEVENT
END:VCALENDAR
