BEGIN:VCALENDAR
VERSION:2.0
PRODID:-//ppi.communityadvocates.net//NONSGML kigkonsult.se iCalcreator 2.3
 0.10//
CALSCALE:GREGORIAN
METHOD:PUBLISH
UID:28d07895-6c1a-48d3-a03c-c7cece897c41
X-WR-CALDESC:The Milwaukee County Substance Abuse Prevention Coalition (MCS
 AP) and the City of Milwaukee Tobacco-Free Alliance will explain how you c
 an live healthy\, happy\, substance free lives at the City of Milwaukee He
 alth Department's Back to School Health Fair on August 9.\n\nAt each Back-
 to-School Health Fair\, children will be able to receive FREE school-requi
 red immunizations. Please bring your child's shot record with you if you h
 ave it. Additional health screenings and services include health checks\, 
 blood lead tests\, vision screening\, blood pressure checks and blood suga
 r checks.\n\nPartner agencies will be providing information and resources 
 around a variety of health\, education\, and other services\, including de
 ntal care. Free haircuts will be provided courtesy of Anthem BlueCross and
  BlueShield.
X-WR-RELCALID:070ded8f3517921343ab41d754798a7e
X-WR-TIMEZONE:America/Chicago
BEGIN:VTIMEZONE
TZID:America/Chicago
BEGIN:STANDARD
TZNAME:CST
DTSTART:20181104T020000
TZOFFSETFROM:-0500
TZOFFSETTO:-0600
RDATE:20191103T020000
RDATE:20201101T020000
END:STANDARD
BEGIN:DAYLIGHT
TZNAME:CDT
DTSTART:20190310T020000
TZOFFSETFROM:-0600
TZOFFSETTO:-0500
RDATE:20200308T020000
END:DAYLIGHT
END:VTIMEZONE
BEGIN:VEVENT
UID:7ec6f59f-8078-4e71-ae5b-21e7ca1e3a1b
DTSTAMP:20260421T064844Z
DESCRIPTION:The Milwaukee County Substance Abuse Prevention Coalition (MCSA
 P) and the City of Milwaukee Tobacco-Free Alliance will explain how you ca
 n live healthy\, happy\, substance free lives at the City of Milwaukee Hea
 lth Department's Back to School Health Fair on August 9.\n\nAt each Back-t
 o-School Health Fair\, children will be able to receive FREE school-requir
 ed immunizations. Please bring your child's shot record with you if you ha
 ve it. Additional health screenings and services include health checks\, b
 lood lead tests\, vision screening\, blood pressure checks and blood sugar
  checks.\n\nPartner agencies will be providing information and resources a
 round a variety of health\, education\, and other services\, including den
 tal care. Free haircuts will be provided courtesy of Anthem BlueCross and 
 BlueShield.
DTSTART;TZID=America/Chicago:20190809T090000
DTEND;TZID=America/Chicago:20190809T150000
LOCATION:Journey House\, 2110 W. Scott St.\, Milwaukee\, WI 53204
SUMMARY:Substance Use Prevention Outreach at Milwaukee Health Department Ba
 ck to School Health Fair
END:VEVENT
END:VCALENDAR
