BEGIN:VCALENDAR
VERSION:2.0
PRODID:-//ppi.communityadvocates.net//NONSGML kigkonsult.se iCalcreator 2.3
 0.10//
CALSCALE:GREGORIAN
METHOD:PUBLISH
UID:c3aaab97-992a-4277-a37f-51c16e34d727
X-WR-CALDESC:The Milwaukee Reentry Council Welcomes Your Attendance at:\nHo
 me to Stay: A Resource-Rich Event Dedicated to Supporting Justice-Involved
  Persons\, Returning Citizens and their Families \n\nDATE: 1ST WEDNESDAY O
 F EVERY MONTH: WEDNESDAY\, AUGUST 7 \nTIME: 11AM - 2PM \nLOCATION: Employ 
 Milwaukee\, 342 N 27th St\, Milwaukee\, WI 53210\nCOST: FREE TO ATTEND! \n
 \n'Home to Stay' is a 'one-stop shop' event that brings a broad spectrum o
 f resources to a single location every month to improve access and support
  positive transitions from justice-involvement. Resources to include: empl
 oyment opportunities\, housing services\, healthcare\, driver’s license re
 covery\, expungement\, child support services\, GED/HSED\, literacy servic
 es\, and more! On-the-spot services and scheduling for future appointments
  will be available.\n\nParticipating Resource Providers and Employers: \n4
 14 Life - City of Milwaukee \nAlma Center \nClean Slate Milwaukee and Seco
 nd Chance Staffing \nCommunity Advocates \nCommunity Warehouse \nCovering 
 Wisconsin \nWisconsin Dept. of Children and Families \nDestined to Succeed
  Institute \nWisconsin Dept. of Corrections - Probation and Parole \nWisco
 nsin Dept. of Workforce Development \nEmploy Milwaukee \nThe Joseph Projec
 t \nLiteracy Services of Wisconsin \nMaximus Inc. \nMilwaukee Justice Cent
 er \nMilwaukee School of Engineering \nMy Father's House \nNorthcott Neigh
 borhood House \nProgressive Community Health Centers \nSocial Development 
 Commission (SDC) \nTown Bank/Wintrust Financial Corp. \nU.S. Probation and
  Parole Office \nWisconsin Community Services (WCS) \nWorkforce Innovation
  and Opportunity Act (WIOA) \nWisconsin Regional Training Partnership (WRT
 P) \nAnd many more... \n\nFor any questions or to join as a resource provi
 der at a future event\, please email: hometostay@milwaukeecjc.org.\n\nThe 
 Milwaukee Reentry Council\, a subcommittee of the Milwaukee Community Just
 ice Council\, is a collaborative of agencies\, organizations and community
  members dedicated to supporting successful reentry in Milwaukee County. D
 WD is an Equal Opportunity Employer and Service Provider. \n\n
X-WR-RELCALID:3c8e2053f8a5403672de3bb87420d09a
X-WR-TIMEZONE:America/Chicago
BEGIN:VTIMEZONE
TZID:America/Chicago
BEGIN:STANDARD
TZNAME:CST
DTSTART:20181104T020000
TZOFFSETFROM:-0500
TZOFFSETTO:-0600
RDATE:20191103T020000
RDATE:20201101T020000
END:STANDARD
BEGIN:DAYLIGHT
TZNAME:CDT
DTSTART:20190310T020000
TZOFFSETFROM:-0600
TZOFFSETTO:-0500
RDATE:20200308T020000
END:DAYLIGHT
END:VTIMEZONE
BEGIN:VEVENT
UID:e1b473ee-0426-41b8-b9f4-783b5b88db97
DTSTAMP:20260421T064411Z
DESCRIPTION:The Milwaukee Reentry Council Welcomes Your Attendance at:\nHom
 e to Stay: A Resource-Rich Event Dedicated to Supporting Justice-Involved 
 Persons\, Returning Citizens and their Families \n\nDATE: 1ST WEDNESDAY OF
  EVERY MONTH: WEDNESDAY\, AUGUST 7 \nTIME: 11AM - 2PM \nLOCATION: Employ M
 ilwaukee\, 342 N 27th St\, Milwaukee\, WI 53210\nCOST: FREE TO ATTEND! \n
 \n'Home to Stay' is a 'one-stop shop' event that brings a broad spectrum o
 f resources to a single location every month to improve access and support
  positive transitions from justice-involvement. Resources to include: empl
 oyment opportunities\, housing services\, healthcare\, driver’s license re
 covery\, expungement\, child support services\, GED/HSED\, literacy servic
 es\, and more! On-the-spot services and scheduling for future appointments
  will be available.\n\nParticipating Resource Providers and Employers: \n4
 14 Life - City of Milwaukee \nAlma Center \nClean Slate Milwaukee and Seco
 nd Chance Staffing \nCommunity Advocates \nCommunity Warehouse \nCovering 
 Wisconsin \nWisconsin Dept. of Children and Families \nDestined to Succeed
  Institute \nWisconsin Dept. of Corrections - Probation and Parole \nWisco
 nsin Dept. of Workforce Development \nEmploy Milwaukee \nThe Joseph Projec
 t \nLiteracy Services of Wisconsin \nMaximus Inc. \nMilwaukee Justice Cent
 er \nMilwaukee School of Engineering \nMy Father's House \nNorthcott Neigh
 borhood House \nProgressive Community Health Centers \nSocial Development 
 Commission (SDC) \nTown Bank/Wintrust Financial Corp. \nU.S. Probation and
  Parole Office \nWisconsin Community Services (WCS) \nWorkforce Innovation
  and Opportunity Act (WIOA) \nWisconsin Regional Training Partnership (WRT
 P) \nAnd many more... \n\nFor any questions or to join as a resource provi
 der at a future event\, please email: hometostay@milwaukeecjc.org.\n\nThe 
 Milwaukee Reentry Council\, a subcommittee of the Milwaukee Community Just
 ice Council\, is a collaborative of agencies\, organizations and community
  members dedicated to supporting successful reentry in Milwaukee County. D
 WD is an Equal Opportunity Employer and Service Provider. \n\n
DTSTART;TZID=America/Chicago:20190807T110000
DTEND;TZID=America/Chicago:20190807T140000
LOCATION:Employ Milwaukee\, 342 N 27th St\, Milwaukee\, WI 53210
SUMMARY:Home to Stay: A Resource-Rich Event Dedicated to Supporting Justice
 -Involved Persons\, Returning Citizens and their Families
END:VEVENT
END:VCALENDAR
