BEGIN:VCALENDAR
VERSION:2.0
PRODID:-//ppi.communityadvocates.net//NONSGML kigkonsult.se iCalcreator 2.3
 0.10//
CALSCALE:GREGORIAN
METHOD:PUBLISH
UID:fb61ee36-7df7-472d-86f9-7d3c028d4253
X-WR-CALDESC:The Milwaukee County Substance Abuse Prevention Coalition (MCS
 AP) and the City of Milwaukee Tobacco-Free Alliance will explain how you c
 an live healthy\, happy\, substance free lives at the City of Milwaukee He
 alth Department's Back to School Health Fair on August 2.\n\nAt each Back-
 to-School Health Fair\, children will be able to receive FREE school-requi
 red immunizations. Please bring your child's shot record with you if you h
 ave it. Additional health screenings and services include health checks\, 
 blood lead tests\, vision screening\, blood pressure checks and blood suga
 r checks.\n\nPartner agencies will be providing information and resources 
 around a variety of health\, education\, and other services\, including de
 ntal care. Free haircuts will be provided courtesy of Anthem BlueCross and
  BlueShield.
X-WR-RELCALID:2c484fb3aad22fd048b952a1b85fe173
X-WR-TIMEZONE:America/Chicago
BEGIN:VTIMEZONE
TZID:America/Chicago
BEGIN:STANDARD
TZNAME:CST
DTSTART:20181104T020000
TZOFFSETFROM:-0500
TZOFFSETTO:-0600
RDATE:20191103T020000
RDATE:20201101T020000
END:STANDARD
BEGIN:DAYLIGHT
TZNAME:CDT
DTSTART:20190310T020000
TZOFFSETFROM:-0600
TZOFFSETTO:-0500
RDATE:20200308T020000
END:DAYLIGHT
END:VTIMEZONE
BEGIN:VEVENT
UID:1925eaf5-ab06-423e-81bf-6c3a4f994af7
DTSTAMP:20260421T064438Z
DESCRIPTION:The Milwaukee County Substance Abuse Prevention Coalition (MCSA
 P) and the City of Milwaukee Tobacco-Free Alliance will explain how you ca
 n live healthy\, happy\, substance free lives at the City of Milwaukee Hea
 lth Department's Back to School Health Fair on August 2.\n\nAt each Back-t
 o-School Health Fair\, children will be able to receive FREE school-requir
 ed immunizations. Please bring your child's shot record with you if you ha
 ve it. Additional health screenings and services include health checks\, b
 lood lead tests\, vision screening\, blood pressure checks and blood sugar
  checks.\n\nPartner agencies will be providing information and resources a
 round a variety of health\, education\, and other services\, including den
 tal care. Free haircuts will be provided courtesy of Anthem BlueCross and 
 BlueShield.
DTSTART;TZID=America/Chicago:20190802T090000
DTEND;TZID=America/Chicago:20190802T150000
LOCATION:Washington High School\, 2525 N. Sherman Blvd.\, Milwaukee\, WI 53
 210
SUMMARY:Substance Use Prevention Outreach at Milwaukee Health Department Ba
 ck to School Health Fair
END:VEVENT
END:VCALENDAR
