BEGIN:VCALENDAR
VERSION:2.0
PRODID:-//ppi.communityadvocates.net//NONSGML kigkonsult.se iCalcreator 2.3
 0.10//
CALSCALE:GREGORIAN
METHOD:PUBLISH
UID:920b43d3-f067-4c87-be04-e3b9c0c8f824
X-WR-CALDESC:Members of the MCSAP coalition will meet from noon to 2:30 p.m
 . Location to be determined. Interested in attending? Contact us at the li
 nk below.
X-WR-RELCALID:6a4e64252df23c569cfb1dcb59cd6c4c
X-WR-TIMEZONE:America/Chicago
BEGIN:VTIMEZONE
TZID:America/Chicago
BEGIN:STANDARD
TZNAME:CST
DTSTART:20181104T020000
TZOFFSETFROM:-0500
TZOFFSETTO:-0600
RDATE:20191103T020000
RDATE:20201101T020000
END:STANDARD
BEGIN:DAYLIGHT
TZNAME:CDT
DTSTART:20190310T020000
TZOFFSETFROM:-0600
TZOFFSETTO:-0500
RDATE:20200308T020000
END:DAYLIGHT
END:VTIMEZONE
BEGIN:VEVENT
UID:a3b4a062-5153-4e84-8906-76d723fbe01b
DTSTAMP:20260421T080418Z
DESCRIPTION:Members of the MCSAP coalition will meet from noon to 2:30 p.m.
  Location to be determined. Interested in attending? Contact us at the lin
 k below.
DTSTART;TZID=America/Chicago:20190711T120000
DTEND;TZID=America/Chicago:20190711T143000
LOCATION:To Be Announced
SUMMARY:MCSAP Coalition Meeting
END:VEVENT
END:VCALENDAR
