BEGIN:VCALENDAR
VERSION:2.0
PRODID:-//ppi.communityadvocates.net//NONSGML kigkonsult.se iCalcreator 2.3
 0.10//
CALSCALE:GREGORIAN
METHOD:PUBLISH
UID:a9d08f54-e460-4e41-8a92-6d7535e50129
X-WR-CALDESC:The Milwaukee Reentry Council Welcomes Your Attendance at:\nHo
 me to Stay: A Resource-Rich Event Dedicated to Supporting Justice-Involved
  Persons\, Returning Citizens and their Families \n\nDATE: July 10\nTIME: 
 11AM - 2PM \nLOCATION: Employ Milwaukee\, 2342 N. 27th St.\, Milwaukee\nCO
 ST: FREE TO ATTEND! \n\n'Home to Stay' is a 'one-stop shop' event that bri
 ngs a broad spectrum of resources to a single location every month to impr
 ove access and support positive transitions from justice-involvement. Reso
 urces to include: employment opportunities\, housing services\, healthcare
 \, driver’s license recovery\, expungement\, child support services\, GED/
 HSED\, literacy services\, and more! On-the-spot services and scheduling f
 or future appointments will be available.\n\nParticipating Resource Provid
 ers and Employers: \n414 Life - City of Milwaukee \nAlma Center \nClean Sl
 ate Milwaukee and Second Chance Staffing \nCommunity Advocates \nCommunity
  Warehouse \nCovering Wisconsin \nWisconsin Dept. of Children and Families
  \nDestined to Succeed Institute \nWisconsin Dept. of Corrections - Probat
 ion and Parole \nWisconsin Dept. of Workforce Development \nEmploy Milwauk
 ee \nThe Joseph Project \nLiteracy Services of Wisconsin \nMaximus Inc. \n
 Milwaukee Justice Center \nMilwaukee School of Engineering \nMy Father's H
 ouse \nNorthcott Neighborhood House \nProgressive Community Health Centers
  \nSocial Development Commission (SDC) \nTown Bank/Wintrust Financial Corp
 . \nU.S. Probation and Parole Office \nWisconsin Community Services (WCS) 
 \nWorkforce Innovation and Opportunity Act (WIOA) \nWisconsin Regional Tra
 ining Partnership (WRTP) \nAnd many more... \n\nFor any questions or to jo
 in as a resource provider at a future event\, please email: hometostay@mil
 waukeecjc.org.\n\nThe Milwaukee Reentry Council\, a subcommittee of the Mi
 lwaukee Community Justice Council\, is a collaborative of agencies\, organ
 izations and community members dedicated to supporting successful reentry 
 in Milwaukee County. DWD is an Equal Opportunity Employer and Service Prov
 ider. \n\n
X-WR-RELCALID:63f179b6aa9677d86042c1e73b31dbda
X-WR-TIMEZONE:America/Chicago
BEGIN:VTIMEZONE
TZID:America/Chicago
BEGIN:STANDARD
TZNAME:CST
DTSTART:20181104T020000
TZOFFSETFROM:-0500
TZOFFSETTO:-0600
RDATE:20191103T020000
RDATE:20201101T020000
END:STANDARD
BEGIN:DAYLIGHT
TZNAME:CDT
DTSTART:20190310T020000
TZOFFSETFROM:-0600
TZOFFSETTO:-0500
RDATE:20200308T020000
END:DAYLIGHT
END:VTIMEZONE
BEGIN:VEVENT
UID:70e91ae3-cc38-4dca-a192-65b8167e0105
DTSTAMP:20260421T081133Z
DESCRIPTION:The Milwaukee Reentry Council Welcomes Your Attendance at:\nHom
 e to Stay: A Resource-Rich Event Dedicated to Supporting Justice-Involved 
 Persons\, Returning Citizens and their Families \n\nDATE: July 10\nTIME: 1
 1AM - 2PM \nLOCATION: Employ Milwaukee\, 2342 N. 27th St.\, Milwaukee\nCOS
 T: FREE TO ATTEND! \n\n'Home to Stay' is a 'one-stop shop' event that brin
 gs a broad spectrum of resources to a single location every month to impro
 ve access and support positive transitions from justice-involvement. Resou
 rces to include: employment opportunities\, housing services\, healthcare\
 , driver’s license recovery\, expungement\, child support services\, GED/H
 SED\, literacy services\, and more! On-the-spot services and scheduling fo
 r future appointments will be available.\n\nParticipating Resource Provide
 rs and Employers: \n414 Life - City of Milwaukee \nAlma Center \nClean Sla
 te Milwaukee and Second Chance Staffing \nCommunity Advocates \nCommunity 
 Warehouse \nCovering Wisconsin \nWisconsin Dept. of Children and Families 
 \nDestined to Succeed Institute \nWisconsin Dept. of Corrections - Probati
 on and Parole \nWisconsin Dept. of Workforce Development \nEmploy Milwauke
 e \nThe Joseph Project \nLiteracy Services of Wisconsin \nMaximus Inc. \nM
 ilwaukee Justice Center \nMilwaukee School of Engineering \nMy Father's Ho
 use \nNorthcott Neighborhood House \nProgressive Community Health Centers 
 \nSocial Development Commission (SDC) \nTown Bank/Wintrust Financial Corp.
  \nU.S. Probation and Parole Office \nWisconsin Community Services (WCS) 
 \nWorkforce Innovation and Opportunity Act (WIOA) \nWisconsin Regional Tra
 ining Partnership (WRTP) \nAnd many more... \n\nFor any questions or to jo
 in as a resource provider at a future event\, please email: hometostay@mil
 waukeecjc.org.\n\nThe Milwaukee Reentry Council\, a subcommittee of the Mi
 lwaukee Community Justice Council\, is a collaborative of agencies\, organ
 izations and community members dedicated to supporting successful reentry 
 in Milwaukee County. DWD is an Equal Opportunity Employer and Service Prov
 ider. \n\n
DTSTART;TZID=America/Chicago:20190710T110000
DTEND;TZID=America/Chicago:20190710T140000
LOCATION:Employ Milwaukee\, 2342 N. 27th St.\, Milwaukee
SUMMARY:Home to Stay: A Resource-Rich Event Dedicated to Supporting Justice
 -Involved Persons\, Returning Citizens and their Families
END:VEVENT
END:VCALENDAR
