BEGIN:VCALENDAR
VERSION:2.0
PRODID:-//ppi.communityadvocates.net//NONSGML kigkonsult.se iCalcreator 2.3
 0.10//
CALSCALE:GREGORIAN
METHOD:PUBLISH
UID:694321ef-bb22-46bd-a918-51a89d55f3f0
X-WR-CALDESC:Youth Mental Health First Aid is primarily designed for adults
  who regularly interact with young people. The course introduces common me
 ntal health challenges for youth\, reviews typical adolescent development\
 , and teaches a 5-step action plan for how to help young people in both cr
 isis and non-crisis situations.\n\n<b>**Registration is required for this 
 free event at the link below.**</b>\n\nThis training is brought to you by 
 Community Advocates Public Policy Institute and the City of Milwaukee Offi
 ce of Violence Prevention\, thanks to a ReCAST Milwaukee grant.
X-WR-RELCALID:82e668c57c641c2a91e27c2af1391822
X-WR-TIMEZONE:America/Chicago
BEGIN:VTIMEZONE
TZID:America/Chicago
BEGIN:STANDARD
TZNAME:CST
DTSTART:20181104T020000
TZOFFSETFROM:-0500
TZOFFSETTO:-0600
RDATE:20191103T020000
RDATE:20201101T020000
END:STANDARD
BEGIN:DAYLIGHT
TZNAME:CDT
DTSTART:20190310T020000
TZOFFSETFROM:-0600
TZOFFSETTO:-0500
RDATE:20200308T020000
END:DAYLIGHT
END:VTIMEZONE
BEGIN:VEVENT
UID:5020350b-c8ca-4fe8-a3f1-b4899a2ff081
DTSTAMP:20260421T081004Z
DESCRIPTION:Youth Mental Health First Aid is primarily designed for adults 
 who regularly interact with young people. The course introduces common men
 tal health challenges for youth\, reviews typical adolescent development\,
  and teaches a 5-step action plan for how to help young people in both cri
 sis and non-crisis situations.\n\n<b>**Registration is required for this f
 ree event at the link below.**</b>\n\nThis training is brought to you by C
 ommunity Advocates Public Policy Institute and the City of Milwaukee Offic
 e of Violence Prevention\, thanks to a ReCAST Milwaukee grant.
DTSTART;TZID=America/Chicago:20190709T090000
DTEND;TZID=America/Chicago:20190709T170000
LOCATION:Community Advocates Training Center\, 6900 W. Brown Deer Road\, Mi
 lwaukee
SUMMARY:Youth Mental Health First Aid Training
END:VEVENT
END:VCALENDAR
