BEGIN:VCALENDAR
VERSION:2.0
PRODID:-//ppi.communityadvocates.net//NONSGML kigkonsult.se iCalcreator 2.3
 0.10//
CALSCALE:GREGORIAN
METHOD:PUBLISH
UID:f8bb11c8-65ab-44e8-b4ff-be06172760ad
X-WR-CALDESC:Community Advocates Public Policy Institute\, COA Youth & Fami
 ly Centers\, and Safe & Sound are organizing a Community Field Day with ac
 tivities and resources\, plus a free Chick-fil-A lunch on Monday\, July 8\
 , at 12 noon at COA Goldin Center\, 2320 W. Burleigh Ave.\, Milwaukee. Fir
 st come\, first served!
X-WR-RELCALID:9363b0c2d60f8cdcf1311dd16bc93f8d
X-WR-TIMEZONE:America/Chicago
BEGIN:VTIMEZONE
TZID:America/Chicago
BEGIN:STANDARD
TZNAME:CST
DTSTART:20181104T020000
TZOFFSETFROM:-0500
TZOFFSETTO:-0600
RDATE:20191103T020000
RDATE:20201101T020000
END:STANDARD
BEGIN:DAYLIGHT
TZNAME:CDT
DTSTART:20190310T020000
TZOFFSETFROM:-0600
TZOFFSETTO:-0500
RDATE:20200308T020000
END:DAYLIGHT
END:VTIMEZONE
BEGIN:VEVENT
UID:ce401bba-b059-410c-83d3-af4babfd32c3
DTSTAMP:20260421T080816Z
DESCRIPTION:Community Advocates Public Policy Institute\, COA Youth & Famil
 y Centers\, and Safe & Sound are organizing a Community Field Day with act
 ivities and resources\, plus a free Chick-fil-A lunch on Monday\, July 8\,
  at 12 noon at COA Goldin Center\, 2320 W. Burleigh Ave.\, Milwaukee. Firs
 t come\, first served!
DTSTART;TZID=America/Chicago:20190708T120000
DTEND;TZID=America/Chicago:20190708T140000
LOCATION:COA Goldin Center\, 2320 W. Burleigh Ave.\, Milwaukee
SUMMARY:Community Field Day
END:VEVENT
END:VCALENDAR
