BEGIN:VCALENDAR
VERSION:2.0
PRODID:-//ppi.communityadvocates.net//NONSGML kigkonsult.se iCalcreator 2.3
 0.10//
CALSCALE:GREGORIAN
METHOD:PUBLISH
UID:32864eff-03e9-4702-b517-e77cbcc3b32c
X-WR-CALDESC:The Public Policy Institute's offices will be closed for the F
 ourth of July holiday\, from July 4 through July 7. We'll be back in touch
  on July 8.
X-WR-RELCALID:0e1c90d58efb061e8e841d2968a0ef16
X-WR-TIMEZONE:America/Chicago
BEGIN:VTIMEZONE
TZID:America/Chicago
BEGIN:STANDARD
TZNAME:CST
DTSTART:20181104T020000
TZOFFSETFROM:-0500
TZOFFSETTO:-0600
RDATE:20191103T020000
RDATE:20201101T020000
END:STANDARD
BEGIN:DAYLIGHT
TZNAME:CDT
DTSTART:20190310T020000
TZOFFSETFROM:-0600
TZOFFSETTO:-0500
RDATE:20200308T020000
END:DAYLIGHT
END:VTIMEZONE
BEGIN:VEVENT
UID:dbf15855-50d5-4c1e-a28f-2bc8edc1fddb
DTSTAMP:20260421T082506Z
DESCRIPTION:The Public Policy Institute's offices will be closed for the Fo
 urth of July holiday\, from July 4 through July 7. We'll be back in touch 
 on July 8.
DTSTART;TZID=America/Chicago:20190704T000000
DTEND;TZID=America/Chicago:20190708T235900
LOCATION:
SUMMARY:July 4th Holiday
END:VEVENT
END:VCALENDAR
