BEGIN:VCALENDAR
VERSION:2.0
PRODID:-//ppi.communityadvocates.net//NONSGML kigkonsult.se iCalcreator 2.3
 0.10//
CALSCALE:GREGORIAN
METHOD:PUBLISH
UID:8c1e79b8-0a3c-4880-ab53-b180243c3a08
X-WR-CALDESC:Not sure what to do with your old medicines? Bring them to our
  event to dispose of them safely. Organized by Take Back My Meds Milwaukee
 \, Safe & Sound\, and MPD District 4. The Milwaukee County Substance Abuse
  Prevention (MCSAP) coalition supports this event.
X-WR-RELCALID:a56c25a3ea4a9104aa6a6be06b5076e0
X-WR-TIMEZONE:America/Chicago
BEGIN:VTIMEZONE
TZID:America/Chicago
BEGIN:STANDARD
TZNAME:CST
DTSTART:20181104T020000
TZOFFSETFROM:-0500
TZOFFSETTO:-0600
RDATE:20191103T020000
RDATE:20201101T020000
END:STANDARD
BEGIN:DAYLIGHT
TZNAME:CDT
DTSTART:20190310T020000
TZOFFSETFROM:-0600
TZOFFSETTO:-0500
RDATE:20200308T020000
END:DAYLIGHT
END:VTIMEZONE
BEGIN:VEVENT
UID:ac885064-9a7c-42db-8ab1-446862724f0c
DTSTAMP:20260421T091518Z
DESCRIPTION:Not sure what to do with your old medicines? Bring them to our 
 event to dispose of them safely. Organized by Take Back My Meds Milwaukee\
 , Safe & Sound\, and MPD District 4. The Milwaukee County Substance Abuse 
 Prevention (MCSAP) coalition supports this event.
DTSTART;TZID=America/Chicago:20190622T103000
DTEND;TZID=America/Chicago:20190622T133000
LOCATION:Salem Lutheran Church\, 6840 N. 107th St.\, Milwaukee
SUMMARY:Drug Take-Back Event
END:VEVENT
END:VCALENDAR
