BEGIN:VCALENDAR
VERSION:2.0
PRODID:-//ppi.communityadvocates.net//NONSGML kigkonsult.se iCalcreator 2.3
 0.10//
CALSCALE:GREGORIAN
METHOD:PUBLISH
UID:954e871d-e1dd-4085-a68d-38382260e585
X-WR-CALDESC:Calling all social service providers\, advocates\, and consume
 rs! The Empowerment Coalition of Milwaukee\, sponsored by Community Advoca
 tes\, will hold this discussion of <b>housing services</b> at the United W
 ay of Greater Milwaukee and Waukesha County\, 225 W. Vine St.\, Milwaukee\
 , from 9 a.m. to noon.\n\nPlease use the entrance at 200 West Pleasant St.
  and go to the Volunteer Center.\n\n<b>Advance registration is required fo
 r all workshops.</b>\n\nWorkshops are $5 per session\; please pay in advan
 ce or on the day of the workshop. Please mail the registration form to Com
 munity Advocates\, Attention: ECOM\, 728 N. James Lovell St.\, Milwaukee\,
  WI 53233\; fax it to Denise Lovelace at 414-875-2010 or email it to dlove
 lace@communityadvocates.net.
X-WR-RELCALID:81e7921bc63c7bd03d5ec9fb0cf59bbf
X-WR-TIMEZONE:America/Chicago
BEGIN:VTIMEZONE
TZID:America/Chicago
BEGIN:STANDARD
TZNAME:CST
DTSTART:20181104T020000
TZOFFSETFROM:-0500
TZOFFSETTO:-0600
RDATE:20191103T020000
RDATE:20201101T020000
END:STANDARD
BEGIN:DAYLIGHT
TZNAME:CDT
DTSTART:20190310T020000
TZOFFSETFROM:-0600
TZOFFSETTO:-0500
RDATE:20200308T020000
END:DAYLIGHT
END:VTIMEZONE
BEGIN:VEVENT
UID:bf241537-1df0-43ef-a40a-351019547511
DTSTAMP:20260421T092855Z
DESCRIPTION:Calling all social service providers\, advocates\, and consumer
 s! The Empowerment Coalition of Milwaukee\, sponsored by Community Advocat
 es\, will hold this discussion of <b>housing services</b> at the United Wa
 y of Greater Milwaukee and Waukesha County\, 225 W. Vine St.\, Milwaukee\,
  from 9 a.m. to noon.\n\nPlease use the entrance at 200 West Pleasant St. 
 and go to the Volunteer Center.\n\n<b>Advance registration is required for
  all workshops.</b>\n\nWorkshops are $5 per session\; please pay in advanc
 e or on the day of the workshop. Please mail the registration form to Comm
 unity Advocates\, Attention: ECOM\, 728 N. James Lovell St.\, Milwaukee\, 
 WI 53233\; fax it to Denise Lovelace at 414-875-2010 or email it to dlovel
 ace@communityadvocates.net.
DTSTART;TZID=America/Chicago:20190621T090000
DTEND;TZID=America/Chicago:20190621T120000
LOCATION:United Way of Greater Milwaukee and Waukesha County\, 225 W. Vine 
 St.\, Milwaukee
SUMMARY:Empowerment Coalition of Milwaukee Workshop: Housing
END:VEVENT
END:VCALENDAR
