BEGIN:VCALENDAR
VERSION:2.0
PRODID:-//ppi.communityadvocates.net//NONSGML kigkonsult.se iCalcreator 2.3
 0.10//
CALSCALE:GREGORIAN
METHOD:PUBLISH
UID:084eb0e3-317c-44e2-851a-12aa160599d1
X-WR-CALDESC:The Reentry Support Training equips residents and service prov
 iders with tools to support previously incarcerated youth and young adults
  with reentering their community. This training helps African American com
 munities interrupt the cycle of recidivism through resource coordination a
 nd relationship building.\n\n*** Registration is required below for this f
 ree community event. ***\n\nThis training is sponsored by ReCast MKE throu
 gh the Office of Violence Prevention in partnership with Community Advocat
 es Public Policy Institute.
X-WR-RELCALID:c7e14990058d9f906c67866209f7e02f
X-WR-TIMEZONE:America/Chicago
BEGIN:VTIMEZONE
TZID:America/Chicago
BEGIN:STANDARD
TZNAME:CST
DTSTART:20181104T020000
TZOFFSETFROM:-0500
TZOFFSETTO:-0600
RDATE:20191103T020000
RDATE:20201101T020000
END:STANDARD
BEGIN:DAYLIGHT
TZNAME:CDT
DTSTART:20190310T020000
TZOFFSETFROM:-0600
TZOFFSETTO:-0500
RDATE:20200308T020000
END:DAYLIGHT
END:VTIMEZONE
BEGIN:VEVENT
UID:e6014aa0-1f33-46cb-95e9-701f8e754b35
DTSTAMP:20260421T091553Z
DESCRIPTION:The Reentry Support Training equips residents and service provi
 ders with tools to support previously incarcerated youth and young adults 
 with reentering their community. This training helps African American comm
 unities interrupt the cycle of recidivism through resource coordination an
 d relationship building.\n\n*** Registration is required below for this fr
 ee community event. ***\n\nThis training is sponsored by ReCast MKE throug
 h the Office of Violence Prevention in partnership with Community Advocate
 s Public Policy Institute.
DTSTART;TZID=America/Chicago:20190617T170000
DTEND;TZID=America/Chicago:20190617T200000
LOCATION:Pathfinders\, 4200 N. Holton St. #400\, Milwaukee
SUMMARY:Youth Reentry Support Training
END:VEVENT
END:VCALENDAR
