BEGIN:VCALENDAR
VERSION:2.0
PRODID:-//ppi.communityadvocates.net//NONSGML kigkonsult.se iCalcreator 2.3
 0.10//
CALSCALE:GREGORIAN
METHOD:PUBLISH
UID:0eca3e04-b14c-43c7-b787-3bfc9011c28f
X-WR-CALDESC:Not sure what to do with your old medicines? Bring them to our
  event to dispose of them safely. Organized by Take Back My Meds Milwaukee
 \, Safe & Sound\, and St. A's. The Milwaukee County Substance Abuse Preven
 tion (MCSAP) coalition supports this event.
X-WR-RELCALID:894ff195c626040bb44fffb10ac4f6ce
X-WR-TIMEZONE:America/Chicago
BEGIN:VTIMEZONE
TZID:America/Chicago
BEGIN:STANDARD
TZNAME:CST
DTSTART:20181104T020000
TZOFFSETFROM:-0500
TZOFFSETTO:-0600
RDATE:20191103T020000
RDATE:20201101T020000
END:STANDARD
BEGIN:DAYLIGHT
TZNAME:CDT
DTSTART:20190310T020000
TZOFFSETFROM:-0600
TZOFFSETTO:-0500
RDATE:20200308T020000
END:DAYLIGHT
END:VTIMEZONE
BEGIN:VEVENT
UID:a7890952-39d7-4350-831d-45b879ffc271
DTSTAMP:20260421T091342Z
DESCRIPTION:Not sure what to do with your old medicines? Bring them to our 
 event to dispose of them safely. Organized by Take Back My Meds Milwaukee\
 , Safe & Sound\, and St. A's. The Milwaukee County Substance Abuse Prevent
 ion (MCSAP) coalition supports this event.
DTSTART;TZID=America/Chicago:20190608T120000
DTEND;TZID=America/Chicago:20190608T160000
LOCATION:St. A's Capitol West Roundabout\, 3901 N. 88th St.\, Milwaukee
SUMMARY:Drug Take-Back Event
END:VEVENT
END:VCALENDAR
