BEGIN:VCALENDAR
VERSION:2.0
PRODID:-//ppi.communityadvocates.net//NONSGML kigkonsult.se iCalcreator 2.3
 0.10//
CALSCALE:GREGORIAN
METHOD:PUBLISH
UID:ab3e91ff-0671-4fe9-8609-e587b85706cb
X-WR-CALDESC:The Milwaukee Reentry Council Welcomes Your Attendance at:\nHo
 me to Stay: A Resource-Rich Event Dedicated to Supporting Justice-Involved
  Persons\, Returning Citizens and their Families \n\nDATE: 1ST WEDNESDAY O
 F EVERY MONTH: WEDNESDAY\, JUNE 5 \nTIME: 11AM - 2PM \nLOCATION: Job Cente
 r Central (4201 N. 27TH ST.) \nCOST: FREE TO ATTEND! \n\n'Home to Stay' is
  a 'one-stop shop' event that brings a broad spectrum of resources to a si
 ngle location every month to improve access and support positive transitio
 ns from justice-involvement. Resources to include: employment opportunitie
 s\, housing services\, healthcare\, driver’s license recovery\, expungemen
 t\, child support services\, GED/HSED\, literacy services\, and more! On-t
 he-spot services and scheduling for future appointments will be available.
 \n\nParticipating Resource Providers and Employers: \n414 Life - City of M
 ilwaukee \nAlma Center \nClean Slate Milwaukee and Second Chance Staffing 
 \nCommunity Advocates \nCommunity Warehouse \nCovering Wisconsin \nWiscons
 in Dept. of Children and Families \nDestined to Succeed Institute \nWiscon
 sin Dept. of Corrections - Probation and Parole \nWisconsin Dept. of Workf
 orce Development \nEmploy Milwaukee \nThe Joseph Project \nLiteracy Servic
 es of Wisconsin \nMaximus Inc. \nMilwaukee Justice Center \nMilwaukee Scho
 ol of Engineering \nMy Father's House \nNorthcott Neighborhood House \nPro
 gressive Community Health Centers \nSocial Development Commission (SDC) \n
 Town Bank/Wintrust Financial Corp. \nU.S. Probation and Parole Office \nWi
 sconsin Community Services (WCS) \nWorkforce Innovation and Opportunity Ac
 t (WIOA) \nWisconsin Regional Training Partnership (WRTP) \nAnd many more.
 .. \n\nFor any questions or to join as a resource provider at a future eve
 nt\, please email: hometostay@milwaukeecjc.org.\n\nThe Milwaukee Reentry C
 ouncil\, a subcommittee of the Milwaukee Community Justice Council\, is a 
 collaborative of agencies\, organizations and community members dedicated 
 to supporting successful reentry in Milwaukee County. DWD is an Equal Oppo
 rtunity Employer and Service Provider. \n\n
X-WR-RELCALID:dde49e12669f743d0d8e00692fc7b860
X-WR-TIMEZONE:America/Chicago
BEGIN:VTIMEZONE
TZID:America/Chicago
BEGIN:STANDARD
TZNAME:CST
DTSTART:20181104T020000
TZOFFSETFROM:-0500
TZOFFSETTO:-0600
RDATE:20191103T020000
RDATE:20201101T020000
END:STANDARD
BEGIN:DAYLIGHT
TZNAME:CDT
DTSTART:20190310T020000
TZOFFSETFROM:-0600
TZOFFSETTO:-0500
RDATE:20200308T020000
END:DAYLIGHT
END:VTIMEZONE
BEGIN:VEVENT
UID:5ec7c92a-3d1b-4365-a8af-7a289984436f
DTSTAMP:20260421T091913Z
DESCRIPTION:The Milwaukee Reentry Council Welcomes Your Attendance at:\nHom
 e to Stay: A Resource-Rich Event Dedicated to Supporting Justice-Involved 
 Persons\, Returning Citizens and their Families \n\nDATE: 1ST WEDNESDAY OF
  EVERY MONTH: WEDNESDAY\, JUNE 5 \nTIME: 11AM - 2PM \nLOCATION: Job Center
  Central (4201 N. 27TH ST.) \nCOST: FREE TO ATTEND! \n\n'Home to Stay' is 
 a 'one-stop shop' event that brings a broad spectrum of resources to a sin
 gle location every month to improve access and support positive transition
 s from justice-involvement. Resources to include: employment opportunities
 \, housing services\, healthcare\, driver’s license recovery\, expungement
 \, child support services\, GED/HSED\, literacy services\, and more! On-th
 e-spot services and scheduling for future appointments will be available.
 \n\nParticipating Resource Providers and Employers: \n414 Life - City of M
 ilwaukee \nAlma Center \nClean Slate Milwaukee and Second Chance Staffing 
 \nCommunity Advocates \nCommunity Warehouse \nCovering Wisconsin \nWiscons
 in Dept. of Children and Families \nDestined to Succeed Institute \nWiscon
 sin Dept. of Corrections - Probation and Parole \nWisconsin Dept. of Workf
 orce Development \nEmploy Milwaukee \nThe Joseph Project \nLiteracy Servic
 es of Wisconsin \nMaximus Inc. \nMilwaukee Justice Center \nMilwaukee Scho
 ol of Engineering \nMy Father's House \nNorthcott Neighborhood House \nPro
 gressive Community Health Centers \nSocial Development Commission (SDC) \n
 Town Bank/Wintrust Financial Corp. \nU.S. Probation and Parole Office \nWi
 sconsin Community Services (WCS) \nWorkforce Innovation and Opportunity Ac
 t (WIOA) \nWisconsin Regional Training Partnership (WRTP) \nAnd many more.
 .. \n\nFor any questions or to join as a resource provider at a future eve
 nt\, please email: hometostay@milwaukeecjc.org.\n\nThe Milwaukee Reentry C
 ouncil\, a subcommittee of the Milwaukee Community Justice Council\, is a 
 collaborative of agencies\, organizations and community members dedicated 
 to supporting successful reentry in Milwaukee County. DWD is an Equal Oppo
 rtunity Employer and Service Provider. \n\n
DTSTART;TZID=America/Chicago:20190605T110000
DTEND;TZID=America/Chicago:20190605T140000
LOCATION:Job Center Central\, 4201 N. 27TH ST.\, Milwaukee
SUMMARY:Home to Stay: A Resource-Rich Event Dedicated to Supporting Justice
 -Involved Persons\, Returning Citizens and their Families
END:VEVENT
END:VCALENDAR
