BEGIN:VCALENDAR
VERSION:2.0
PRODID:-//ppi.communityadvocates.net//NONSGML kigkonsult.se iCalcreator 2.3
 0.10//
CALSCALE:GREGORIAN
METHOD:PUBLISH
UID:a111ac11-0f41-4a81-8fa1-052a9db6e769
X-WR-CALDESC:Community Advocates Public Policy Institute and Partnerships f
 or Success are pleased to offer this no-cost\, two-day training for educat
 ion and other professionals to learn how to identify chemically impaired i
 ndividuals. \n\nDrug Impairment Training for Education Professionals (DITE
 P) is aimed toward educators\, school nurses\, administrators\, law enforc
 ement\, parents\, nonprofit professionals\, and youth-serving organization
 s. Participants will learn how to assess individuals for substance use and
  ensure a safe environment for all.\n\nThere is no cost to attend\, and pa
 rticipants will receive a manual and lunch. RSVP now as space is limited.
X-WR-RELCALID:b6e59600b93ce3b1556d0d1c102ff152
X-WR-TIMEZONE:America/Chicago
BEGIN:VTIMEZONE
TZID:America/Chicago
BEGIN:STANDARD
TZNAME:CST
DTSTART:20181104T020000
TZOFFSETFROM:-0500
TZOFFSETTO:-0600
RDATE:20191103T020000
RDATE:20201101T020000
END:STANDARD
BEGIN:DAYLIGHT
TZNAME:CDT
DTSTART:20190310T020000
TZOFFSETFROM:-0600
TZOFFSETTO:-0500
RDATE:20200308T020000
END:DAYLIGHT
END:VTIMEZONE
BEGIN:VEVENT
UID:0c4cab7f-fd9e-417a-8faa-1f385374cb99
DTSTAMP:20260421T103544Z
DESCRIPTION:Community Advocates Public Policy Institute and Partnerships fo
 r Success are pleased to offer this no-cost\, two-day training for educati
 on and other professionals to learn how to identify chemically impaired in
 dividuals. \n\nDrug Impairment Training for Education Professionals (DITEP
 ) is aimed toward educators\, school nurses\, administrators\, law enforce
 ment\, parents\, nonprofit professionals\, and youth-serving organizations
 . Participants will learn how to assess individuals for substance use and 
 ensure a safe environment for all.\n\nThere is no cost to attend\, and par
 ticipants will receive a manual and lunch. RSVP now as space is limited.
DTSTART;TZID=America/Chicago:20190530T090000
DTEND;TZID=America/Chicago:20190531T160000
LOCATION:Community Advocates Training Center\, 6900 W. Brown Deer Road\, Mi
 lwaukee
SUMMARY:Drug Impairment Training for Education Professionals
END:VEVENT
END:VCALENDAR
