BEGIN:VCALENDAR
VERSION:2.0
PRODID:-//ppi.communityadvocates.net//NONSGML kigkonsult.se iCalcreator 2.3
 0.10//
CALSCALE:GREGORIAN
METHOD:PUBLISH
UID:fc49fc7f-ca19-4b4c-8ac4-7a6ac516dd44
X-WR-CALDESC:Our offices will be closed to observe Memorial Day. We'll be h
 appy to connect with you on Tuesday.
X-WR-RELCALID:a0f0246a1092db1179e71c6819c3ed76
X-WR-TIMEZONE:America/Chicago
BEGIN:VTIMEZONE
TZID:America/Chicago
BEGIN:STANDARD
TZNAME:CST
DTSTART:20181104T020000
TZOFFSETFROM:-0500
TZOFFSETTO:-0600
RDATE:20191103T020000
RDATE:20201101T020000
END:STANDARD
BEGIN:DAYLIGHT
TZNAME:CDT
DTSTART:20190310T020000
TZOFFSETFROM:-0600
TZOFFSETTO:-0500
RDATE:20200308T020000
END:DAYLIGHT
END:VTIMEZONE
BEGIN:VEVENT
UID:e53fa893-5db9-4f71-8bc8-75c3884463f7
DTSTAMP:20260421T104648Z
DESCRIPTION:Our offices will be closed to observe Memorial Day. We'll be ha
 ppy to connect with you on Tuesday.
DTSTART;TZID=America/Chicago:20190527T000000
DTEND;TZID=America/Chicago:20190527T235900
LOCATION:
SUMMARY:Memorial Day
END:VEVENT
END:VCALENDAR
