BEGIN:VCALENDAR
VERSION:2.0
PRODID:-//ppi.communityadvocates.net//NONSGML kigkonsult.se iCalcreator 2.3
 0.10//
CALSCALE:GREGORIAN
METHOD:PUBLISH
UID:594bf719-7e2a-46a5-baaf-8fe27bf6bb75
X-WR-CALDESC:This is a tabletop game experience that builds an understandin
 g of the powerful role of experiences on early brain development. If your 
 organization or community is embarking on a conversation about adverse chi
 ldhood experiences\, toxic stress\, or other early childhood issues\, The 
 Brain Architecture Game can be a valuable resource for creating a common u
 nderstanding and a common language on these topics. \n\nThis workshop is f
 ree\, but registration is required at the link below. It's sponsored by th
 e City of Milwaukee Office of Violence Prevention and Community Advocates 
 Public Policy Institute.
X-WR-RELCALID:c68c799fada91b1f4fc814b059c54619
X-WR-TIMEZONE:America/Chicago
BEGIN:VTIMEZONE
TZID:America/Chicago
BEGIN:STANDARD
TZNAME:CST
DTSTART:20181104T020000
TZOFFSETFROM:-0500
TZOFFSETTO:-0600
RDATE:20191103T020000
RDATE:20201101T020000
END:STANDARD
BEGIN:DAYLIGHT
TZNAME:CDT
DTSTART:20190310T020000
TZOFFSETFROM:-0600
TZOFFSETTO:-0500
RDATE:20200308T020000
END:DAYLIGHT
END:VTIMEZONE
BEGIN:VEVENT
UID:5eb9b41a-026b-45aa-8718-8d7deb7adaa1
DTSTAMP:20260421T104108Z
DESCRIPTION:This is a tabletop game experience that builds an understanding
  of the powerful role of experiences on early brain development. If your o
 rganization or community is embarking on a conversation about adverse chil
 dhood experiences\, toxic stress\, or other early childhood issues\, The B
 rain Architecture Game can be a valuable resource for creating a common un
 derstanding and a common language on these topics. \n\nThis workshop is fr
 ee\, but registration is required at the link below. It's sponsored by the
  City of Milwaukee Office of Violence Prevention and Community Advocates P
 ublic Policy Institute.
DTSTART;TZID=America/Chicago:20190524T120000
DTEND;TZID=America/Chicago:20190524T140000
LOCATION:Community Advocates Training Center\, 6900 W. Brown Deer Road\, Mi
 lwaukee
SUMMARY:The Brain Architecture Game
END:VEVENT
END:VCALENDAR
