BEGIN:VCALENDAR
VERSION:2.0
PRODID:-//ppi.communityadvocates.net//NONSGML kigkonsult.se iCalcreator 2.3
 0.10//
CALSCALE:GREGORIAN
METHOD:PUBLISH
UID:b959945a-ecc9-4ed8-9a67-2da91def38f9
X-WR-CALDESC:QPR stands for Question\, Persuade\, and Refer -- the three si
 mple steps anyone can learn to help save a life from suicide.\n\nTo save l
 ives and reduce suicidal behaviors\, this two-hour session provides innova
 tive\, practical\, and proven suicide prevention training. We believe that
  quality education empowers all people\, regardless of their background\, 
 to make a positive difference in the life of someone they know.\n\nKey com
 ponents: \n•	How to Question\, Persuade and Refer someone who may be suicid
 al\n•	How to get help for yourself or learn more about preventing suicide\n
 •	The common causes of suicidal behavior\n•	The warning signs of suicide\n•	H
 ow to get help for someone in crisis\n\nThis training is free\, but regist
 ration is required at the link below. It's sponsored by the City of Milwau
 kee Office of Violence Prevention and Community Advocates Public Policy In
 stitute.
X-WR-RELCALID:99b0cfb339045f5a8252ac7a152138e5
X-WR-TIMEZONE:America/Chicago
BEGIN:VTIMEZONE
TZID:America/Chicago
BEGIN:STANDARD
TZNAME:CST
DTSTART:20181104T020000
TZOFFSETFROM:-0500
TZOFFSETTO:-0600
RDATE:20191103T020000
RDATE:20201101T020000
END:STANDARD
BEGIN:DAYLIGHT
TZNAME:CDT
DTSTART:20190310T020000
TZOFFSETFROM:-0600
TZOFFSETTO:-0500
RDATE:20200308T020000
END:DAYLIGHT
END:VTIMEZONE
BEGIN:VEVENT
UID:e9f8cef0-92b4-41f6-907d-7311c8bb5522
DTSTAMP:20260421T104056Z
DESCRIPTION:QPR stands for Question\, Persuade\, and Refer -- the three sim
 ple steps anyone can learn to help save a life from suicide.\n\nTo save li
 ves and reduce suicidal behaviors\, this two-hour session provides innovat
 ive\, practical\, and proven suicide prevention training. We believe that 
 quality education empowers all people\, regardless of their background\, t
 o make a positive difference in the life of someone they know.\n\nKey comp
 onents: \n•	How to Question\, Persuade and Refer someone who may be suicida
 l\n•	How to get help for yourself or learn more about preventing suicide\n•
 	The common causes of suicidal behavior\n•	The warning signs of suicide\n•	Ho
 w to get help for someone in crisis\n\nThis training is free\, but registr
 ation is required at the link below. It's sponsored by the City of Milwauk
 ee Office of Violence Prevention and Community Advocates Public Policy Ins
 titute.
DTSTART;TZID=America/Chicago:20190520T150000
DTEND;TZID=America/Chicago:20190520T170000
LOCATION:Diverse & Resilient\, 2439 N. Holton St.\, Milwaukee\, WI 53212
SUMMARY:QPR Suicide Prevention Training
END:VEVENT
END:VCALENDAR
