BEGIN:VCALENDAR
VERSION:2.0
PRODID:-//ppi.communityadvocates.net//NONSGML kigkonsult.se iCalcreator 2.3
 0.10//
CALSCALE:GREGORIAN
METHOD:PUBLISH
UID:51ecd6ff-9235-44d7-8b69-de772781933f
X-WR-CALDESC:Boost your health and happiness at our Spring Wellness Fair! T
 his free\, family-friendly event offers demonstrations\, resources\, free 
 food at lunchtime\, games\, raffles\, and prizes to celebrate May as Menta
 l Health Month. Saturday\, May 11\, from 9 a.m. to 4 p.m. at Community Adv
 ocates Training Center\, 6900 W. Brown Deer Road\, Milwaukee. Brought to y
 ou by Community Advocates Public Policy Institute and Milwaukee County Beh
 avioral Health Division.\n\n9 – 9:45: Yoga with Denna Haslett\, Grounded S
 oul Yoga \n10 – 10:45: Mindfulness with Ambrose WB\, MISPIBO Fitness \n11 
 – 11:45: Basketball Shootaround with Cream Skills Basketball Association 
 \n11:30 – 1: Lunch\n12:15 – 12:45: Line Dancing with Mind Body Soul Urban 
 Line Dancers \n1 – 1:45: Lyric/Poetry Workshop with Joshua Jenkins \n2 – 2
 :45: Martial Arts with Frederick Coleman\, Studio69 \n\nPlus:\nAurora Fami
 ly Services | Boys & Girls Club Bike Shop | Children’s Community Health Pl
 an | MHS Wisconsin | Milwaukee County Energy Assistance | Milwaukee Fire D
 epartment | Milwaukee Recreation| Milwaukee Women’s Center | Social Develo
 pment Commission \n\nRegister now to let us know you’re coming!\n
X-WR-RELCALID:9715058e81ec04e4ae7263c639834d5e
X-WR-TIMEZONE:America/Chicago
BEGIN:VTIMEZONE
TZID:America/Chicago
BEGIN:STANDARD
TZNAME:CST
DTSTART:20181104T020000
TZOFFSETFROM:-0500
TZOFFSETTO:-0600
RDATE:20191103T020000
RDATE:20201101T020000
END:STANDARD
BEGIN:DAYLIGHT
TZNAME:CDT
DTSTART:20190310T020000
TZOFFSETFROM:-0600
TZOFFSETTO:-0500
RDATE:20200308T020000
END:DAYLIGHT
END:VTIMEZONE
BEGIN:VEVENT
UID:7c92315a-0507-4c60-baa4-cdf7b55fed55
DTSTAMP:20260421T103156Z
DESCRIPTION:Boost your health and happiness at our Spring Wellness Fair! Th
 is free\, family-friendly event offers demonstrations\, resources\, free f
 ood at lunchtime\, games\, raffles\, and prizes to celebrate May as Mental
  Health Month. Saturday\, May 11\, from 9 a.m. to 4 p.m. at Community Advo
 cates Training Center\, 6900 W. Brown Deer Road\, Milwaukee. Brought to yo
 u by Community Advocates Public Policy Institute and Milwaukee County Beha
 vioral Health Division.\n\n9 – 9:45: Yoga with Denna Haslett\, Grounded So
 ul Yoga \n10 – 10:45: Mindfulness with Ambrose WB\, MISPIBO Fitness \n11 –
  11:45: Basketball Shootaround with Cream Skills Basketball Association \n
 11:30 – 1: Lunch\n12:15 – 12:45: Line Dancing with Mind Body Soul Urban Li
 ne Dancers \n1 – 1:45: Lyric/Poetry Workshop with Joshua Jenkins \n2 – 2:4
 5: Martial Arts with Frederick Coleman\, Studio69 \n\nPlus:\nAurora Family
  Services | Boys & Girls Club Bike Shop | Children’s Community Health Plan
  | MHS Wisconsin | Milwaukee County Energy Assistance | Milwaukee Fire Dep
 artment | Milwaukee Recreation| Milwaukee Women’s Center | Social Developm
 ent Commission \n\nRegister now to let us know you’re coming!\n
DTSTART;TZID=America/Chicago:20190511T090000
DTEND;TZID=America/Chicago:20190511T160000
LOCATION:Community Advocates Training Center\, 6900 W. Brown Deer Road\, Mi
 lwaukee
SUMMARY:Spring Wellness Fair
END:VEVENT
END:VCALENDAR
