BEGIN:VCALENDAR
VERSION:2.0
PRODID:-//ppi.communityadvocates.net//NONSGML kigkonsult.se iCalcreator 2.3
 0.10//
CALSCALE:GREGORIAN
METHOD:PUBLISH
UID:a5e177d5-0716-4f60-8f5c-5d4dacba3d26
X-WR-CALDESC:The adult Mental Health First Aid course is appropriate for an
 yone 18 years and older who wants to learn how to help a person who may be
  experiencing a mental health- related crisis or problem. Topics covered i
 nclude anxiety\, depression\, psychosis\, and addictions.\n\nMental Health
  First Aid teaches you how to identify\, understand\, and respond to signs
  of mental illnesses and substance use disorders. This eight-hour training
  gives you the skills you need to reach out and provide initial support to
  someone who may be developing a mental health or substance use problem an
 d help connect them to appropriate care.\n\nThis training is free but RSVP
 s are required. It's presented by the City of Milwaukee Office of Violence
  Prevention and Community Advocates Public Policy Institute.
X-WR-RELCALID:cd8ec9ac77f222cf2c920f12b2d5c721
X-WR-TIMEZONE:America/Chicago
BEGIN:VTIMEZONE
TZID:America/Chicago
BEGIN:STANDARD
TZNAME:CST
DTSTART:20181104T020000
TZOFFSETFROM:-0500
TZOFFSETTO:-0600
RDATE:20191103T020000
RDATE:20201101T020000
END:STANDARD
BEGIN:DAYLIGHT
TZNAME:CDT
DTSTART:20190310T020000
TZOFFSETFROM:-0600
TZOFFSETTO:-0500
RDATE:20200308T020000
END:DAYLIGHT
END:VTIMEZONE
BEGIN:VEVENT
UID:0ce0b2fe-b719-434a-89ba-25568dd1e658
DTSTAMP:20260421T103939Z
DESCRIPTION:The adult Mental Health First Aid course is appropriate for any
 one 18 years and older who wants to learn how to help a person who may be 
 experiencing a mental health- related crisis or problem. Topics covered in
 clude anxiety\, depression\, psychosis\, and addictions.\n\nMental Health 
 First Aid teaches you how to identify\, understand\, and respond to signs 
 of mental illnesses and substance use disorders. This eight-hour training 
 gives you the skills you need to reach out and provide initial support to 
 someone who may be developing a mental health or substance use problem and
  help connect them to appropriate care.\n\nThis training is free but RSVPs
  are required. It's presented by the City of Milwaukee Office of Violence 
 Prevention and Community Advocates Public Policy Institute.
DTSTART;TZID=America/Chicago:20190510T090000
DTEND;TZID=America/Chicago:20190510T170000
LOCATION:Diverse & Resilient\, 2439 N. Holton St\, Milwaukee\, WI 53212
SUMMARY:Adult Mental Health First Aid
END:VEVENT
END:VCALENDAR
