BEGIN:VCALENDAR
VERSION:2.0
PRODID:-//ppi.communityadvocates.net//NONSGML kigkonsult.se iCalcreator 2.3
 0.10//
CALSCALE:GREGORIAN
METHOD:PUBLISH
UID:6676f571-aafd-4c75-950f-fffccf3fcc18
X-WR-CALDESC:Get rid of your unused and unwanted medication at this Drug Ta
 ke-Back Event! Bring medication\, vitamins\, and over-the-counter pills yo
 u no longer need and it will be disposed of safely and securely. This reso
 urce is sponsored by Take Back My Meds MKE and the Milwaukee County Substa
 nce Abuse Prevention (MCSAP) coalition. Can't attend this event? Go to Tak
 e Back My Meds MKE's website for a list of dropoff sites throughout Milwau
 kee County.
X-WR-RELCALID:65e2ca92fbf1b86c0b94f41964054837
X-WR-TIMEZONE:America/Chicago
BEGIN:VTIMEZONE
TZID:America/Chicago
BEGIN:STANDARD
TZNAME:CST
DTSTART:20181104T020000
TZOFFSETFROM:-0500
TZOFFSETTO:-0600
RDATE:20191103T020000
END:STANDARD
BEGIN:DAYLIGHT
TZNAME:CDT
DTSTART:20190310T020000
TZOFFSETFROM:-0600
TZOFFSETTO:-0500
RDATE:20200308T020000
END:DAYLIGHT
END:VTIMEZONE
BEGIN:VEVENT
UID:cb02804e-30f6-4874-a267-74316c88af6d
DTSTAMP:20260421T115109Z
DESCRIPTION:Get rid of your unused and unwanted medication at this Drug Tak
 e-Back Event! Bring medication\, vitamins\, and over-the-counter pills you
  no longer need and it will be disposed of safely and securely. This resou
 rce is sponsored by Take Back My Meds MKE and the Milwaukee County Substan
 ce Abuse Prevention (MCSAP) coalition. Can't attend this event? Go to Take
  Back My Meds MKE's website for a list of dropoff sites throughout Milwauk
 ee County.
DTSTART;TZID=America/Chicago:20190427T120000
DTEND;TZID=America/Chicago:20190427T150000
LOCATION:Christ-St. Peter Lutheran School Lot\, 2137 W. Greenfield Ave.\, M
 ilwaukee
SUMMARY:Drug Take-Back Event
END:VEVENT
END:VCALENDAR
